BEGIN:VCALENDAR
VERSION:2.0
BEGIN:VEVENT
URL:http://www.signaturewines.com/wine-community/events/viewevent/428-splatter 
DTSTART:20150919T133000
DTEND:20150919T173000
SUMMARY:Splatter
DESCRIPTION:<p><strong>BUY YOUR TICKETS HERE: </strong><span style="line-height: 1.3em;">https://www.dublinrecguide.com/Activities/ActivitiesCourseDetails.asp?aid=xxx1&cid=41260</span></p>
<p><em style="color: #000000; font-family: Verdana; font-size: 13px; line-height: normal;">The City of Dublin's 2015 'splatter... not your ordinary food, wine and art festival' is scheduled for Saturday, September 19 at picturesque Emerald Glen Park located at 4120 Central Parkway in Dublin. The event features live entertainment, arts and crafts, unique art, food trucks, wines and micro-breweries, and an evening concert at 6:30pm followed by a spectacular Laser Light Show at 8:00pm. The centerpiece of this unique event is the Tasting Pavilion featuring over 30 of the finest restaurants, wineries and micro-breweries in the Tri-Valley area. The Pavilion hours are 1:30pm to 5:30pm. Admission to the Pavilion requires a Passport which is good for 1 event wine glass and 18 samples of your choice of food or beverage. Guests must be 21 years of age to sample alcohol and proper proof of age must be presented upon entry to receive an wristband. (An event water bottle is available for those who do not wish to sample the alcohol.) A limited number of passports will be available at the pre-event rate of $30.00. The deadline to pre-purchase Passports is Friday, September 18 at 9:00am. Passports can also be purchased at the event for $35.00. 'Halfports' for 9 samples will be also be available at the event for $20.00 for those not sampling alcohol. Passports will not be mailed. All advance purchase Passports will be available for pick-up at the event at Will Call along with event wine glasses. ALL GUESTS MUST HAVE A PASSPORT OR A HALF-PORT IN ORDER TO ENTER THE PAVILION.</em><span style="color: #000000; font-family: Verdana; font-size: 13px; line-height: normal;"> </span></p>
LOCATION: 4201 Central Pkwy. Dublin, CA 94568
END:VEVENT
END:VCALENDAR