BEGIN:VCALENDAR
VERSION:2.0
BEGIN:VEVENT
URL:http://www.signaturewines.com/wine-community/events/viewevent/43-2nd-annual-half-moon-bay-food-and-wine-fare 
DTSTART:20111105T120000
DTEND:20111105T160000
SUMMARY:2nd Annual Half Moon Bay Food and Wine Fare
DESCRIPTION:<p>Join us for the 2nd Annual Half Moon Bay Food & Wine Fare at  Oceano Hotel & Spa Harbor Village Shops in Half Moon Bay.</p>
<p> </p>
<p class="MsoNormal" style="text-align: left; line-height: 150%;">Get away to Half Moon Bay, known for beautiful views, great  food and fabulous wine. Live the good life by attending the Half Moon  Bay Food & Wine Fare, Saturday, November 5, 2011 at Oceano Hotel  & Spa, Harbor Village Shops. Admission is free! Wineries will be  offering wine by the taste and bottle. The event will feature wines from  over 20 Santa Cruz Mountains Wineries. Come hungry because local Half  Moon Bay restaurants will be cooking up some delicious food for sale.</p>
<p class="MsoNormal" style="text-align: left; line-height: 150%;">We are also providing fundraising opportunities to 2 local  non-profits. The Coastside Children's Programs, which will offer  kid-friendly activities and snacks for sale, as well as the American  Legion July 4th Fireworks Committee, which will offer non-alcohlic  drinks for sale.</p>
<h2>The way the event works:</h2>
<p class="MsoNormal" style="line-height: 150%;">Just want to come and check the event out? Free Admission</p>
<p class="MsoNormal" style="line-height: 150%;">Want to eat food? Food will be for sale from our food vendors, cost between $5-$20</p>
<p class="MsoNormal" style="line-height: 150%;">Want to taste wine? Purchase a wine glass for $5 and wine  tickets at $1 each. A taste of wine depends on the winery; a taste will  be between 2-5 tickets.</p>
<p class="MsoNormal" style="line-height: 150%;">Want to buy a bottle of wine? Visit our bottle booth for pricing and availability</p>
LOCATION:Half Moon Bay Harbor 280 Capistrano Road Half Moon Bay, California 94019
END:VEVENT
END:VCALENDAR