BEGIN:VCALENDAR
VERSION:2.0
BEGIN:VEVENT
URL:http://www.signaturewines.com/wine-community/events/viewevent/442-mama-s-night-out-livermore-ca 
DTSTART:20150926T180000
DTEND:20150926T230000
SUMMARY: Mama's Night Out - Livermore, CA
DESCRIPTION:<p><strong>BUY YOUR TICKETS HERE: </strong><span style="line-height: 1.3em;">http://www.eventbrite.com/e/unravel-pediatric-cancer-presents-mamas-night-out-livermore-ca-tickets-17871596426?aff=es2</span></p>
<p style="line-height: 20px; margin: 0px 0px 1.2em; padding: 0px; letter-spacing: 0.5px; font-family: WinterthurCondensedRegular, Arial, Helvetica, sans-serif; font-size: 16px; border: 0px; outline: 0px; vertical-align: baseline; color: #7a7a7a; text-align: center;"><span style="font-family: 'trebuchet ms', geneva; font-size: large; color: #ff3399;"><span style="font-weight: bold;"><span style="font-size: medium;">Grab your girlfriends, dust off your little black dress,</span></span></span><br /><span style="font-weight: bold;"><span style="font-family: 'trebuchet ms', geneva; font-size: medium; color: #ff3399;">and come together to raise money to Unravel Pediatric Cancer.</span></span></p>
<p style="line-height: 20px; margin: 0px 0px 1.2em; padding: 0px; letter-spacing: 0.5px; font-family: WinterthurCondensedRegular, Arial, Helvetica, sans-serif; font-size: 16px; border: 0px; outline: 0px; vertical-align: baseline; color: #7a7a7a; text-align: center;"><span style="font-weight: bold;"><span style="color: #ff3399; font-family: 'trebuchet ms', geneva; font-size: medium;">            Please join us for the 2nd annual Mama's Night Out in Livermore                    </span></span><span style="color: #ff3399; font-family: 'trebuchet ms', geneva; font-size: medium; font-weight: bold;">at The Barn!</span></p>
<p style="line-height: 20px; margin: 0px 0px 1.2em; padding: 0px; letter-spacing: 0.5px; font-family: WinterthurCondensedRegular, Arial, Helvetica, sans-serif; font-size: 16px; border: 0px; outline: 0px; vertical-align: baseline; color: #7a7a7a; text-align: center;"> </p>
<ul style="margin: 0px; color: #666666; font-family: 'Helvetica Neue', Helvetica, Arial, sans-serif; font-size: 13px; letter-spacing: 0.5px; line-height: 15.84000015258789px;">
<li style="color: #7a7a7a; font-family: WinterthurCondensedRegular, Arial, Helvetica, sans-serif; font-size: 16px; line-height: 20px;"><span style="font-family: 'trebuchet ms', geneva; font-size: medium; color: #888888; font-weight: bold;">Enjoy food generously provided by some of our favorite local eateries and sip on delicious wine or skip those and go right to dessert! </span><span style="color: #888888; font-family: 'trebuchet ms', geneva; font-size: medium; font-weight: bold;"><em>It’s your night, you can do that!</em><br /> </span></li>
<li style="color: #7a7a7a; font-family: WinterthurCondensedRegular, Arial, Helvetica, sans-serif; font-size: 16px; line-height: 20px;"><span style="color: #888888; font-family: 'trebuchet ms', geneva; font-size: medium; font-weight: bold;">Check out our amazing vendors and see what wonderful products they have to help bring a little sparkle to your life!<br /> </span></li>
<li style="color: #7a7a7a; font-family: WinterthurCondensedRegular, Arial, Helvetica, sans-serif; font-size: 16px; line-height: 20px;"><span style="font-family: 'trebuchet ms', geneva; font-size: medium; color: #888888; font-weight: bold;">Bid on some great silent auction items and buy raffle tickets </span><span style="color: #888888; font-family: 'trebuchet ms', geneva; font-size: medium; font-weight: bold;">to win some great prizes just for you.<br /> </span></li>
<li style="color: #7a7a7a; font-family: WinterthurCondensedRegular, Arial, Helvetica, sans-serif; font-size: 16px; line-height: 20px;"><span style="color: #888888; font-family: 'trebuchet ms', geneva; font-size: medium;"><span style="font-weight: bold;">Don't forget to capture the moment in our photo booth and kick up your heels </span></span><span style="font-weight: bold; color: #888888; font-family: 'trebuchet ms', geneva; font-size: medium;">on the dance floor.<br /> </span></li>
<li style="color: #7a7a7a; font-family: WinterthurCondensedRegular, Arial, Helvetica, sans-serif; font-size: 16px; line-height: 20px;"><span style="color: #888888; font-family: 'trebuchet ms', geneva; font-size: medium; font-weight: bold;">Learn more about Pediatric Cancer and how coming to </span><span style="color: #888888; font-family: 'trebuchet ms', geneva; font-size: medium; font-weight: bold;">the event makes a difference to the 46 children who get </span><span style="color: #888888; font-family: 'trebuchet ms', geneva; font-size: medium; font-weight: bold;">diagnosed with cancer every day.<br /> </span></li>
<li style="color: #7a7a7a; font-family: WinterthurCondensedRegular, Arial, Helvetica, sans-serif; font-size: 16px; line-height: 20px;"><span style="color: #888888; font-family: 'trebuchet ms', geneva; font-size: medium; font-weight: bold;">It will be the most fun you will ever have for a good cause!</span></li>
</ul>
<p style="line-height: 20px; margin: 0px 0px 1.2em; padding: 0px; letter-spacing: 0.5px; font-family: WinterthurCondensedRegular, Arial, Helvetica, sans-serif; font-size: 16px; border: 0px; outline: 0px; vertical-align: baseline; color: #7a7a7a; text-align: center;"><span style="color: #000000; font-family: arial, helvetica, sans-serif; font-size: small;">We will transform The Barn with the help of the talented team behind </span></p>
<p style="line-height: 20px; margin: 0px 0px 1.2em; padding: 0px; letter-spacing: 0.5px; font-family: WinterthurCondensedRegular, Arial, Helvetica, sans-serif; font-size: 16px; border: 0px; outline: 0px; vertical-align: baseline; color: #7a7a7a; text-align: center;"><span style="font-size: small;"><span style="color: #000000; font-family: arial, helvetica, sans-serif;"><span style="line-height: 18.6000003814697px; text-indent: 2px; white-space: pre;">The Test Of Time Weddings & </span></span><span style="line-height: 18.6000003814697px; text-indent: 2px; white-space: pre; color: #000000; font-family: arial, helvetica, sans-serif;">Vintage Rentals. You won't even recognize it!</span></span></p>
<p style="line-height: 20px; margin: 0px 0px 1.2em; padding: 0px; letter-spacing: 0.5px; font-family: WinterthurCondensedRegular, Arial, Helvetica, sans-serif; font-size: 16px; border: 0px; outline: 0px; vertical-align: baseline; color: #7a7a7a; text-align: center;"><span style="color: #000000; font-size: small; font-family: arial, helvetica, sans-serif;"><span style="text-align: right;">Please email your questions to: jenny.mno15@gmail.com </span></span></p>
<p style="line-height: 20px; margin: 0px 0px 1.2em; padding: 0px; letter-spacing: 0.5px; font-family: WinterthurCondensedRegular, Arial, Helvetica, sans-serif; font-size: 16px; border: 0px; outline: 0px; vertical-align: baseline; color: #7a7a7a; text-align: center;"><span style="color: #000000; font-size: small; font-family: arial, helvetica, sans-serif;"><span style="text-align: right;">Make sure to like us on Facebook to stay up to date- <a href="https://www.facebook.com/events/1122857971061304/" rel="nofollow" style="color: #0f90ba;">MNO Livermore.</a></span></span></p>
LOCATION:The Barn  3131 Pacific Ave  Livermore, CA 94550
END:VEVENT
END:VCALENDAR