BEGIN:VCALENDAR
VERSION:2.0
BEGIN:VEVENT
URL:http://www.signaturewines.com/wine-community/events/viewevent/443-wine-bites 
DTSTART:20150917T173000
DTEND:20150917T193000
SUMMARY:Wine & Bites
DESCRIPTION:<p>Wine & Bites features wines from Unti and Les Voleurs Vineyards and bites from local restaurants in the Bernal Heights/ Mission neighborhood. The event is hosted by Avenue and Plumpjack Wine and Spirits. For more information go to www.avenuewineandbites.eventbrite.com.</p>
LOCATION:San Francisco, CA
END:VEVENT
END:VCALENDAR