BEGIN:VCALENDAR
VERSION:2.0
BEGIN:VEVENT
URL:http://www.signaturewines.com/wine-community/events/viewevent/444-arts-for-living-presents-a-savory-soiree 
DTSTART:20151107T180000
DTEND:20151107T210000
SUMMARY:Arts for Living presents A Savory Soiree
DESCRIPTION:<p><strong>BUY YOUR TICKETS HERE: </strong><span style="line-height: 1.3em;">http://www.brownpapertickets.com/event/2037962</span></p>
<div style="font-family: Helvetica, Arial, sans-serif; line-height: normal; color: #dd7727; font-weight: bold; padding-top: 5px; padding-bottom: 10px;">Arts for Living presents A Savory Soiree</div>
<p><span style="color: #777777; font-family: Helvetica, Arial, sans-serif; line-height: normal;">Come, partake in the creativity and stories of Arts for Living members.  This first annual fundraiser soiree will include a delightful evening of music, art, fine wine & gourmet appetizers at SLO's Museum of Art (SLOMA).  </span><br style="color: #777777; font-family: Helvetica, Arial, sans-serif; line-height: normal;" /><br style="color: #777777; font-family: Helvetica, Arial, sans-serif; line-height: normal;" /><span style="color: #777777; font-family: Helvetica, Arial, sans-serif; line-height: normal;">Arts for Living is an affiliate organization of the non-profit, United Cerebral Palsy of San Luis Obispo County, that engages people with intellectual and developmental disabilities in community through music & arts.  </span><br style="color: #777777; font-family: Helvetica, Arial, sans-serif; line-height: normal;" /><br style="color: #777777; font-family: Helvetica, Arial, sans-serif; line-height: normal;" /><span style="color: #777777; font-family: Helvetica, Arial, sans-serif; line-height: normal;">Space is limited!</span></p>
LOCATION:San Luis Obispo Museum of Art (View) 1010 Broad Street San Luis Obispo, CA 93401
END:VEVENT
END:VCALENDAR