BEGIN:VCALENDAR
VERSION:2.0
BEGIN:VEVENT
URL:http://www.signaturewines.com/wine-community/events/viewevent/445-2015-after-the-ball 
DTSTART:20151003T180000
DTEND:20151003T213000
SUMMARY:2015 After the Ball
DESCRIPTION:<p style="line-height: normal; margin: 0px; padding: 0px 0px 8px; color: #1a1616; font-family: 'Helvetica Neue', Helvetica, Arial, sans-serif; font-size: 13px; letter-spacing: 0.5px; text-align: left;"><strong><span style="font-family: arial, helvetica, sans-serif; font-size: x-large;">BUY YOUR TICKETS HERE: </span></strong><span style="color: #333333; font-family: Tahoma, Helvetica, Arial, sans-serif; font-size: 12px; line-height: 1.3em;">http://www.eventbrite.com/e/2015-after-the-ball-tickets-13707612839?aff=es2</span></p>
<p style="line-height: normal; margin: 0px; padding: 0px 0px 8px; color: #1a1616; font-family: 'Helvetica Neue', Helvetica, Arial, sans-serif; font-size: 13px; letter-spacing: 0.5px; text-align: center;"><span style="font-family: arial, helvetica, sans-serif; font-size: x-large;">Please Join Us!</span></p>
<p style="line-height: normal; margin: 0px; padding: 0px 0px 8px; color: #1a1616; font-family: 'Helvetica Neue', Helvetica, Arial, sans-serif; font-size: 13px; letter-spacing: 0.5px;"><span style="font-family: arial, helvetica, sans-serif; font-size: x-large;">      On Friday, October 2, 2015, the Friends of the Alameda Animal Shelter (FAAS) will proudly host its 5th Annual After The Ball fundraising celebration. Put on your party clothes and mingle with Cool Cats and Top Dogs at Alameda's premier event benefitting homeless pets!</span></p>
<p style="line-height: normal; margin: 0px 0px 0.0001pt; padding: 0px 0px 8px; color: #1a1616; font-family: 'Helvetica Neue', Helvetica, Arial, sans-serif; font-size: 13px; letter-spacing: 0.5px;"><span style="font-family: arial, helvetica, sans-serif; font-size: x-large;"> </span></p>
<p style="line-height: normal; margin: 0px; padding: 0px 0px 8px; color: #1a1616; font-family: 'Helvetica Neue', Helvetica, Arial, sans-serif; font-size: 13px; letter-spacing: 0.5px; text-indent: 0.5in;"><span style="font-family: arial, helvetica, sans-serif; font-size: x-large;">The event will be held at Rock Wall Wine Company, and feature local wine and beer paired with gourmet hors d’oeuvres. Entertainment will include aerial trapeze artists and vintage jazz care of the Johns Brothers Piano Company. A unique selection of cocktail and live auction items will also be available for purchase to help support the animals. It is an event not to be missed! </span></p>
<p style="line-height: normal; margin: 0px 0px 0.0001pt; padding: 0px 0px 8px; color: #1a1616; font-family: 'Helvetica Neue', Helvetica, Arial, sans-serif; font-size: 13px; letter-spacing: 0.5px;"><span style="font-family: arial, helvetica, sans-serif; font-size: x-large;"> </span></p>
<p style="line-height: normal; margin: 0px; padding: 0px 0px 8px; color: #1a1616; font-family: 'Helvetica Neue', Helvetica, Arial, sans-serif; font-size: 13px; letter-spacing: 0.5px; text-align: center;"><span style="font-family: arial, helvetica, sans-serif; font-size: x-large;">               For more information on sponsorship opportunities or to donate an item for the auction, please contact Kim Stange-Herlihy 510-337-8572 or <a href="mailto:kstange.herlihy.faas@gmail.com" rel="nofollow" style="color: #031fa8;">kstange.herlihy.faas@gmail.com</a>.</span></p>
<p style="line-height: normal; margin: 0px; padding: 0px 0px 8px; color: #1a1616; font-family: 'Helvetica Neue', Helvetica, Arial, sans-serif; font-size: 13px; letter-spacing: 0.5px; text-align: center;"> </p>
<p style="line-height: normal; margin: 0px; padding: 0px 0px 8px; color: #1a1616; font-family: 'Helvetica Neue', Helvetica, Arial, sans-serif; font-size: 13px; letter-spacing: 0.5px; text-align: center;"><span style="font-size: 18pt; line-height: 27.600000381469727px; font-family: Helvetica, sans-serif;"><span style="font-weight: bold;">    Please join these generous sponsors to-date to support the Friends of the Alameda Animal Shelter</span></span><span style="font-weight: bold; color: #3366ff; font-size: x-large; line-height: 1.6em;">        </span></p>
<h1 style="font-size: 26px; margin: 0px; line-height: 28px; padding-bottom: 5px; color: #1a1616; font-family: 'Helvetica Neue', Helvetica, Arial, sans-serif; letter-spacing: 0.5px;" align="left"><span style="color: #993366;"><span style="font-size: 21.3333339691162px; line-height: 24.5333347320557px;">TITLE SPONSOR:</span></span></h1>
<p style="line-height: normal; margin: 0px; padding: 0px 0px 8px; color: #1a1616; font-family: 'Helvetica Neue', Helvetica, Arial, sans-serif; font-size: 13px; letter-spacing: 0.5px;"><span style="font-weight: bold; color: #3366ff; font-size: x-large; line-height: 1.6em;"> <a href="http://www.rockwallwines.com/" target="_blank" rel="nofollow" style="color: #031fa8;">Kent and Kathy Rosenblum</a></span></p>
<p style="line-height: normal; margin: 0px; padding: 0px 0px 8px; color: #1a1616; font-family: 'Helvetica Neue', Helvetica, Arial, sans-serif; font-size: 13px; letter-spacing: 0.5px;"><span style="font-weight: bold; color: #3366ff; font-size: x-large; line-height: 1.6em;"> </span></p>
<h1 style="font-size: 26px; margin: 0px; line-height: 28px; padding-bottom: 5px; color: #1a1616; font-family: 'Helvetica Neue', Helvetica, Arial, sans-serif; letter-spacing: 0.5px;" align="left"><span style="font-size: 16pt; line-height: 24.533334732055664px; color: #993366;">Top Dog-</span></h1>
<p style="line-height: normal; margin: 0px; padding: 0px 0px 8px; color: #1a1616; font-family: 'Helvetica Neue', Helvetica, Arial, sans-serif; font-size: 13px; letter-spacing: 0.5px;"><span style="color: #000000; font-size: x-large;"><span style="font-weight: bold;"><a href="http://www.excelgraphics.biz/" target="_blank" rel="nofollow" style="color: #031fa8;">Excel Graphics</a>     <a href="http://www.jivacreative.com/" target="_blank" rel="nofollow" style="color: #031fa8;">Jiva Creative</a>     <a href="http://www.mbharch.com/" target="_blank" rel="nofollow" style="color: #031fa8;">MBH Arch</a> </span></span></p>
<p style="line-height: normal; margin: 0px; padding: 0px 0px 8px; color: #1a1616; font-family: 'Helvetica Neue', Helvetica, Arial, sans-serif; font-size: 13px; letter-spacing: 0.5px;"> </p>
<h1 style="font-size: 26px; margin: 0px; line-height: 28px; padding-bottom: 5px; color: #1a1616; font-family: 'Helvetica Neue', Helvetica, Arial, sans-serif; letter-spacing: 0.5px;" align="left"><span style="font-size: 16pt; line-height: 24.533334732055664px; color: #993366;">Cat’s Meow</span></h1>
<p style="line-height: normal; margin: 0px; padding: 0px 0px 8px; color: #1a1616; font-family: 'Helvetica Neue', Helvetica, Arial, sans-serif; font-size: 13px; letter-spacing: 0.5px;"><span style="font-size: x-large; color: #000080;"><span style="font-weight: bold;"><a href="http://www.providencevethospital.com/" target="_blank" rel="nofollow" style="color: #031fa8;">Providence Veterinary Hospital<span style="line-height: 1.6em;"> </span></a>    </span></span></p>
<h1 style="font-size: 26px; margin: 0px; line-height: 28px; padding-bottom: 5px; color: #1a1616; font-family: 'Helvetica Neue', Helvetica, Arial, sans-serif; letter-spacing: 0.5px; text-align: justify;"><span style="font-size: 16pt; line-height: 24.533334732055664px;"><span style="color: #993366;"> </span></span></h1>
<h1 style="font-size: 26px; margin: 0px; line-height: 28px; padding-bottom: 5px; color: #1a1616; font-family: 'Helvetica Neue', Helvetica, Arial, sans-serif; letter-spacing: 0.5px; text-align: justify;"><span style="font-size: 16pt; line-height: 24.533334732055664px;"><span style="color: #993366;">Pack Leader</span>                                          </span></h1>
<h1 style="font-size: 26px; margin: 0px; line-height: 28px; padding-bottom: 5px; color: #1a1616; font-family: 'Helvetica Neue', Helvetica, Arial, sans-serif; letter-spacing: 0.5px; text-align: justify;"><span style="font-size: large;"><span style="line-height: 32px;"><a href="http://www.alamedapet.com/" target="_blank" rel="nofollow" style="color: #031fa8;">Alameda Pet Hospital</a> *<a href="http://www.ptindirectory.com/tax-preparers/california/alameda-ca/195976/gail-s-artikaslan-ea/gail-s-artikaslan-ea" target="_blank" rel="nofollow" style="color: #031fa8;">Gail Artikaslan, EA</a> *<a href="http://casaorinda.net/" target="_blank" rel="nofollow" style="color: #031fa8;">Casa Orinda Restaurant</a> * Jeanine L Boehm * LeeAnne & Mike Baker * <a href="http://parkcentrevets.com/" target="_blank" rel="nofollow" style="color: #031fa8;">Park Centre Animal Hospital</a> * <a href="http://placertitle.com/" target="_blank" rel="nofollow" style="color: #031fa8;">Placer Title Company</a> * <a href="https://www.statefarm.com/agent/US/CA/Alameda/Kelly-Lux-2Z02G1YS000" target="_blank" rel="nofollow" style="color: #031fa8;">State Farm-Kelly Lux</a></span></span></h1>
<p style="line-height: normal; margin: 0px; padding: 0px 0px 8px 30px; color: #1a1616; font-family: 'Helvetica Neue', Helvetica, Arial, sans-serif; font-size: 13px; letter-spacing: 0.5px;"> </p>
<h1 style="font-size: 26px; margin: 0px; line-height: 28px; padding-bottom: 5px; color: #1a1616; font-family: 'Helvetica Neue', Helvetica, Arial, sans-serif; letter-spacing: 0.5px; text-align: justify;"><span style="font-size: 16pt; line-height: 24.533334732055664px; color: #993366;">Pick of the Litter</span></h1>
<p style="line-height: normal; margin: 0px; padding: 0px 0px 8px; color: #1a1616; font-family: 'Helvetica Neue', Helvetica, Arial, sans-serif; font-size: 13px; letter-spacing: 0.5px;"><span style="font-size: large; line-height: 1.6em; color: #000000;"><a href="https://www.edwardjones.com/en_US/fa/index.html&CIRN=308546" target="_blank" rel="nofollow" style="color: #031fa8; line-height: 28.7999992370605px;"> Edward Jones Investments,Office of Deb Knowle</a><a href="http://www.grandmarina.com/" target="_blank" rel="nofollow" style="color: #031fa8;"><span style="line-height: 28.7999992370605px;">s</span></a></span></p>
<p style="line-height: normal; margin: 0px; padding: 0px 0px 8px; color: #1a1616; font-family: 'Helvetica Neue', Helvetica, Arial, sans-serif; font-size: 13px; letter-spacing: 0.5px;"><span style="font-size: large; line-height: 1.6em; color: #000000;"><a href="http://www.grandmarina.com/" target="_blank" rel="nofollow" style="color: #031fa8;"><span style="line-height: 28.7999992370605px;"> </span>Grand Marina Alameda</a>    </span><span style="font-size: large; line-height: 1.6em;">Ken <span style="color: #000080;">Werner & Steve Ferguson </span></span></p>
<p style="line-height: normal; margin: 0px; padding: 0px 0px 8px; color: #1a1616; font-family: 'Helvetica Neue', Helvetica, Arial, sans-serif; font-size: 13px; letter-spacing: 0.5px;"><span style="font-size: large; line-height: 1.6em;"><span style="color: #000080;"> </span></span></p>
<h1 style="font-size: 26px; margin: 0px; line-height: 28px; padding-bottom: 5px; color: #1a1616; font-family: 'Helvetica Neue', Helvetica, Arial, sans-serif; letter-spacing: 0.5px;" align="left"><span style="font-size: 16pt; line-height: 24.533334732055664px; color: #993366;">Cool Cat</span></h1>
<p style="line-height: normal; margin: 0px; padding: 0px 0px 8px; color: #1a1616; font-family: 'Helvetica Neue', Helvetica, Arial, sans-serif; font-size: 13px; letter-spacing: 0.5px;"><span style="font-size: medium; color: #000000;">Chris and Kay Blair, </span><span style="font-size: medium; color: #000000;">Christina Balogh-Nunes & George Nunes, Erik Holland, <a href="http://www.1303highstreet.com/" target="_blank" rel="nofollow" style="color: #031fa8;">High Street Café</a>, <a href="http://www.hbrinfo.com/" target="_blank" rel="nofollow" style="color: #031fa8;"> Harbor Bay Realtors/Sterling Mortgage</a>,  <a href="https://www.idexx.com/corporate/home.html" target="_blank" rel="nofollow" style="color: #031fa8;">Idexx Laboratories</a>, <a href="http://www.kevinkennedyllc.com/" target="_blank" rel="nofollow" style="color: #031fa8;">Kevin Kennedy</a>, </span><span style="font-size: medium;"> <a href="https://www.facebook.com/profile.php?id=100006340036684&fref=ts" target="_blank" rel="nofollow" style="color: #031fa8;">Mark Sorensen,Tom Squire & Bentley</a>   <a href="http://www.hbrinfo.com/agents/profile-129.html" target="_blank" rel="nofollow" style="color: #031fa8;">Nancy Evans of Harbor Bay Realty</a>,  Rita Wilds & Joe Ortiz,  Robert Wonder, Sheila Cahill, The Baglietto Family,  <a href="http://trophymasters.securesites.net/" target="_blank" rel="nofollow" style="color: #031fa8;">Trophy Masters</a></span></p>
<h1 style="font-size: 26px; margin: 0px; line-height: 28px; padding-bottom: 5px; color: #1a1616; font-family: 'Helvetica Neue', Helvetica, Arial, sans-serif; letter-spacing: 0.5px;" align="left"> </h1>
<h1 style="font-size: 26px; margin: 0px; line-height: 28px; padding-bottom: 5px; color: #1a1616; font-family: 'Helvetica Neue', Helvetica, Arial, sans-serif; letter-spacing: 0.5px;" align="left">Host Committee</h1>
<p style="line-height: normal; margin: 0px; padding: 0px 0px 8px; color: #1a1616; font-family: 'Helvetica Neue', Helvetica, Arial, sans-serif; font-size: 13px; letter-spacing: 0.5px;">Ann Dey, Alice Sunshine & Bob McAndrews, Dianne M. Richmond & Victor Jin, Fred and Joann Blas, Jack & Ilse Harpe, <span style="color: #222222; font-family: arial, sans-serif; font-size: 12.8000001907349px;">Relaxing Rex Canine Massage</span>, John L. Lipp & Peter Lunny, Law offices of Matthew J. Duncan, APLC, Victoria & Theodore Holgerson, and Joan Stebbins</p>
<p style="line-height: normal; margin: 0px; padding: 0px 0px 8px; color: #1a1616; font-family: 'Helvetica Neue', Helvetica, Arial, sans-serif; font-size: 13px; letter-spacing: 0.5px;"> </p>
<p style="line-height: normal; margin: 0px; padding: 0px 0px 8px; color: #1a1616; font-family: 'Helvetica Neue', Helvetica, Arial, sans-serif; font-size: 13px; letter-spacing: 0.5px;"><span style="font-size: large;"><span style="font-weight: bold;">Entertainment, Food, Wine and Beer Partners</span></span></p>
<p style="line-height: normal; margin: 0px; padding: 0px 0px 8px; color: #1a1616; font-family: 'Helvetica Neue', Helvetica, Arial, sans-serif; font-size: 13px; letter-spacing: 0.5px;"><span style="font-size: large;">Asena, Safeway, Faction Brewing, Alameda Brewing Company, R & B Cellars, Jeff Cohn Cellars, Urban Legend and John Brothers Piano Company</span></p>
LOCATION:Rock Wall Wine Company  2301 Monarch Street, Suite 300  Alameda, CA 94501
END:VEVENT
END:VCALENDAR