BEGIN:VCALENDAR
VERSION:2.0
BEGIN:VEVENT
URL:http://www.signaturewines.com/wine-community/events/viewevent/446-comedy-uncorked-2015 
DTSTART:20150919T193000
DTEND:20150919T213000
SUMMARY:Comedy Uncorked 2015
DESCRIPTION:<p><strong>BUY YOUR TICKETS HERE: </strong><span style="line-height: 1.3em;">http://www.brownpapertickets.com/event/1615365</span></p>
<p><span style="color: #777777; font-family: Helvetica, Arial, sans-serif; line-height: normal;">Join us for an evening of laughs and wine for a great cause on the lawn at beautiful Retzlaff Vineyards, Livermore. Benefits Open Heart Kitchen, feeding the hungry of the Tri-Valley. Advance purchase tickets save $5 off the price at the door.</span></p>
<p><strong style="color: #777777; font-family: Helvetica, Arial, sans-serif; line-height: normal;">September 19:</strong><span style="color: #777777; font-family: Helvetica, Arial, sans-serif; line-height: normal;"> Mickey Joseph, Nick Hoffman and Steve Ausburne</span></p>
LOCATION:Reztlaff Vineyards (View) 1356 South Livermore Ave. Livermore, CA 94550
END:VEVENT
END:VCALENDAR