BEGIN:VCALENDAR
VERSION:2.0
BEGIN:VEVENT
URL:http://www.signaturewines.com/wine-community/events/viewevent/447-sliders-at-sunset 
DTSTART:20150904T170000
DTEND:20150904T220000
SUMMARY:Sliders at Sunset
DESCRIPTION:<div style="color: #5d4334; font-family: Garamond, 'Times New Roman', Times, serif; font-size: 14pt; line-height: normal; text-align: justify;" align="justify">Join us on <span class="aBn" style="border-bottom-width: 1px; border-bottom-style: dashed; border-bottom-color: #cccccc; position: relative; top: -2px; z-index: 0;"><span class="aQJ" style="position: relative; top: 2px; z-index: -1;">Friday, September 4</span></span>, for a special summer evening. Watch the sun set from our Vineyard Point Tasting room while enjoying a sampling of gourmet sliders, salads, and dessert. This is a reservations only event. The $35 fee includes the menu below.  Call <a href="tel:1-800-975-7191" target="_blank" style="color: #1155cc;">1-800-975-7191</a> to reserve your spot.</div>
<div style="color: #5d4334; font-family: Garamond, 'Times New Roman', Times, serif; font-size: 14pt; line-height: normal; text-align: justify;" align="justify"> </div>
<div style="color: #5d4334; font-family: Garamond, 'Times New Roman', Times, serif; font-size: 14pt; line-height: normal; text-align: center;" align="center"><strong>MENU</strong></div>
<div style="color: #5d4334; font-family: Garamond, 'Times New Roman', Times, serif; font-size: 14pt; line-height: normal; text-align: center;" align="center"><strong> </strong></div>
<div style="color: #5d4334; font-family: Garamond, 'Times New Roman', Times, serif; font-size: 14pt; line-height: normal; text-align: center;" align="center"><strong>A Trio of Salads</strong></div>
<div style="color: #5d4334; font-family: Garamond, 'Times New Roman', Times, serif; font-size: 14pt; line-height: normal; text-align: center;" align="center"> </div>
<div style="color: #5d4334; font-family: Garamond, 'Times New Roman', Times, serif; font-size: 14pt; line-height: normal; text-align: center;" align="center">Baby Romaine with Roasted Cherry Tomatoes, Grilled Sourdough, Shaved Parmesan and Jalapeño Caesar Dressing</div>
<div style="color: #5d4334; font-family: Garamond, 'Times New Roman', Times, serif; font-size: 14pt; line-height: normal; text-align: center;" align="center"> </div>
<div style="color: #5d4334; font-family: Garamond, 'Times New Roman', Times, serif; font-size: 14pt; line-height: normal; text-align: center;" align="center">Thai Chicken Salad, fresh Chow Mein, Japanese Cucumbers. Tomatoes, Red Onion and Hoisin Vinaigrette</div>
<div style="color: #5d4334; font-family: Garamond, 'Times New Roman', Times, serif; font-size: 14pt; line-height: normal; text-align: center;" align="center"> </div>
<div style="color: #5d4334; font-family: Garamond, 'Times New Roman', Times, serif; font-size: 14pt; line-height: normal; text-align: center;" align="center">Baby Greens with Humboldt Fog, Crushed Pistachio, Tempura Grapes and Pomegranate Vinaigrette</div>
<div style="color: #5d4334; font-family: Garamond, 'Times New Roman', Times, serif; font-size: 14pt; line-height: normal; text-align: center;" align="center"> </div>
<div style="color: #5d4334; font-family: Garamond, 'Times New Roman', Times, serif; font-size: 14pt; line-height: normal; text-align: center;" align="center"><strong>A Trio of Sliders</strong></div>
<div style="color: #5d4334; font-family: Garamond, 'Times New Roman', Times, serif; font-size: 14pt; line-height: normal; text-align: center;" align="center"> </div>
<div style="color: #5d4334; font-family: Garamond, 'Times New Roman', Times, serif; font-size: 14pt; line-height: normal; text-align: center;" align="center">The BACA Burger Slider, nominated for "Best Burger" in the Bay Area.</div>
<div style="color: #5d4334; font-family: Garamond, 'Times New Roman', Times, serif; font-size: 14pt; line-height: normal; text-align: center;" align="center"> </div>
<div style="color: #5d4334; font-family: Garamond, 'Times New Roman', Times, serif; font-size: 14pt; line-height: normal; text-align: center;" align="center">Smoked and Mustard rubbed Pulled Pork Slider </div>
<div style="color: #5d4334; font-family: Garamond, 'Times New Roman', Times, serif; font-size: 14pt; line-height: normal; text-align: center;" align="center"> </div>
<div style="color: #5d4334; font-family: Garamond, 'Times New Roman', Times, serif; font-size: 14pt; line-height: normal; text-align: center;" align="center">Coffee rubbed Brisket Slider</div>
<div style="color: #5d4334; font-family: Garamond, 'Times New Roman', Times, serif; font-size: 14pt; line-height: normal; text-align: center;" align="center"> </div>
<div style="color: #5d4334; font-family: Garamond, 'Times New Roman', Times, serif; font-size: 14pt; line-height: normal; text-align: center;" align="center"><strong>Dessert</strong></div>
<div style="color: #5d4334; font-family: Garamond, 'Times New Roman', Times, serif; font-size: 14pt; line-height: normal; text-align: center;" align="center"> </div>
<div style="color: #5d4334; font-family: Garamond, 'Times New Roman', Times, serif; font-size: 14pt; line-height: normal; text-align: center;" align="center">Rum Caramel Bar with Fudge Brownies, Bomboloni (Italian Doughnut holes) and Petit Cookies</div>
<p> </p>
LOCATION:House Family Vineyards 13336 Old Oak Way Saratoga, CA 95070
END:VEVENT
END:VCALENDAR