BEGIN:VCALENDAR
VERSION:2.0
BEGIN:VEVENT
URL:http://www.signaturewines.com/wine-community/events/viewevent/45-2012-santa-cruz-wine-and-crab-taste-off 
DTSTART:20120122T140000
DTEND:20120122T170000
SUMMARY:2012 Santa Cruz Wine and Crab Taste Off
DESCRIPTION:<p>Yum!</p>
<p>Join us for a day of wine from the Santa Cruz Mountains  matched with crab dishes specially prepared by local chefs.  Buy a  ticket for $49 and you will get the opportunity to taste two crab  selections at two restaurants and wine tasting at all four restaurants!   If you would like to taste crab at more than two locations the cost is  $16 per additional restaurant.</p>
<p>After tasting each crab dish, you get to vote for your  favorite!  Attendees also have the opportunity to purchase local wines  at great prices.  Come taste the fabulous wines and crab with us!</p>
<p><br />Click on the link below for more information and for ticket information:</p>
<p>http://www.scmwa.com/wsdevent/eventview/action/view/frmArticleID/71/</p>
<p><em><strong>Restaurants & Winery Locations</strong></em><em><strong>:<br /></strong><br /> Cafe Cruz, Capitola<br /> Ma Maison, Aptos<br /> Michaels on Main, Soquel<br /> Sanderlings at Seascape Resort, Aptos<br /> Paradise Beach Grille, Capitola</em></p>
LOCATION:Santa Cruz
END:VEVENT
END:VCALENDAR