BEGIN:VCALENDAR
VERSION:2.0
BEGIN:VEVENT
URL:http://www.signaturewines.com/wine-community/events/viewevent/450-fall-auction-and-lobster-feed 
DTSTART:20150912T173000
DTEND:20150912T213000
SUMMARY:Fall Auction and Lobster Feed
DESCRIPTION:<p><strong>BUY YOUR TICKETS HERE: </strong><span style="line-height: 1.3em;">http://www.eventbrite.com/e/fall-auction-and-lobster-feed-tickets-3527570057?aff=es2</span></p>
<p style="line-height: normal; margin: 0px; padding: 0px 0px 8px; color: #000000; font-family: 'Helvetica Neue', Helvetica, Arial, sans-serif; font-size: 13px; letter-spacing: 0.5px; text-align: center;"><span style="font-family: arial, helvetica, sans-serif;">LSF Children and Family Services invites you to our </span></p>
<p style="line-height: normal; margin: 0px; padding: 0px 0px 8px; color: #000000; font-family: 'Helvetica Neue', Helvetica, Arial, sans-serif; font-size: 13px; letter-spacing: 0.5px; text-align: center;"><span style="font-size: medium; font-family: arial, helvetica, sans-serif;"><span style="font-weight: bold;">5th Annual Fall Auction and Lobster Feed </span></span></p>
<p style="line-height: normal; margin: 0px; padding: 0px 0px 8px; color: #000000; font-family: 'Helvetica Neue', Helvetica, Arial, sans-serif; font-size: 13px; letter-spacing: 0.5px; text-align: center;"><span style="font-family: arial, helvetica, sans-serif;">Saturday September 12, 2015 </span></p>
<p style="line-height: normal; margin: 0px; padding: 0px 0px 8px; color: #000000; font-family: 'Helvetica Neue', Helvetica, Arial, sans-serif; font-size: 13px; letter-spacing: 0.5px; text-align: center;"><span style="font-family: arial, helvetica, sans-serif;">St. Timothy's Church </span></p>
<p style="line-height: normal; margin: 0px; padding: 0px 0px 8px; color: #000000; font-family: 'Helvetica Neue', Helvetica, Arial, sans-serif; font-size: 13px; letter-spacing: 0.5px; text-align: center;"><span style="font-family: arial, helvetica, sans-serif;">1515 Dolan Ave. San Mateo, CA </span></p>
<p style="line-height: normal; margin: 0px; padding: 0px 0px 8px; color: #000000; font-family: 'Helvetica Neue', Helvetica, Arial, sans-serif; font-size: 13px; letter-spacing: 0.5px; text-align: center;"><span style="font-family: arial, helvetica, sans-serif; line-height: 1.6em;">General Information Below:  </span></p>
<p style="line-height: normal; margin: 0px; padding: 0px 0px 8px; color: #000000; font-family: 'Helvetica Neue', Helvetica, Arial, sans-serif; font-size: 13px; letter-spacing: 0.5px; text-align: justify;"><span style="font-family: arial, helvetica, sans-serif;">General Tickets: $50 per person<span style="line-height: 1.6em;">               5:30pm: Silent Auction & Open Bar (Wine & Beer)</span></span></p>
<p style="line-height: normal; margin: 0px; padding: 0px 0px 8px; color: #000000; font-family: 'Helvetica Neue', Helvetica, Arial, sans-serif; font-size: 13px; letter-spacing: 0.5px; text-align: justify;"><span style="font-family: arial, helvetica, sans-serif; line-height: 1.6em;">Table: $450 (seats 10)                             6:15pm: Dinner and Program </span></p>
<p style="line-height: normal; margin: 0px; padding: 0px 0px 8px; color: #000000; font-family: 'Helvetica Neue', Helvetica, Arial, sans-serif; font-size: 13px; letter-spacing: 0.5px; text-align: justify;"><span style="font-family: arial, helvetica, sans-serif;">*Adults over 21 only                                8:15pm: Dancing </span></p>
<p style="line-height: normal; margin: 0px; padding: 0px 0px 8px; color: #000000; font-family: 'Helvetica Neue', Helvetica, Arial, sans-serif; font-size: 13px; letter-spacing: 0.5px; text-align: justify;"><span style="font-family: arial, helvetica, sans-serif;">*Purchase tickets by September 4th </span></p>
<p style="line-height: normal; margin: 0px; padding: 0px 0px 8px; color: #000000; font-family: 'Helvetica Neue', Helvetica, Arial, sans-serif; font-size: 13px; letter-spacing: 0.5px; text-align: justify;"><span style="font-family: arial, helvetica, sans-serif;">*MC Catherine Heenan, Kron 4 </span></p>
<p style="line-height: normal; margin: 0px; padding: 0px 0px 8px; color: #000000; font-family: 'Helvetica Neue', Helvetica, Arial, sans-serif; font-size: 13px; letter-spacing: 0.5px; text-align: center;">Please contact us at cafsfundraiser@lifestepsfoundation.org<span style="font-size: 10pt; font-family: 'Bookman Old Style', serif;"> or (650)777-9182. </span></p>
LOCATION:St. Timothy's Church  1515 Dolan Ave  San Mateo, CA 94401
END:VEVENT
END:VCALENDAR