BEGIN:VCALENDAR
VERSION:2.0
BEGIN:VEVENT
URL:http://www.signaturewines.com/wine-community/events/viewevent/451-wine-dine-and-jazz-2015 
DTSTART:20151022T180000
DTEND:20151022T210000
SUMMARY:Wine, Dine and Jazz 2015
DESCRIPTION:<p style="line-height: 15.180000305175781px; margin: 0px; padding: 0px 0px 8px; color: #666666; font-family: 'Helvetica Neue', Helvetica, Arial, sans-serif; font-size: 13px; letter-spacing: 0.5px;"><strong><span style="font-size: 13pt; line-height: 19.933334350585938px; font-family: Georgia; color: #1a1a1a;">BUY YOUR TICKETS HERE: </span></strong><span style="color: #333333; font-family: Tahoma, Helvetica, Arial, sans-serif; font-size: 12px; line-height: 1.3em;">http://www.eventbrite.com/e/wine-dine-and-jazz-2015-tickets-14822292877?aff=es2</span></p>
<p style="line-height: 15.180000305175781px; margin: 0px; padding: 0px 0px 8px; color: #666666; font-family: 'Helvetica Neue', Helvetica, Arial, sans-serif; font-size: 13px; letter-spacing: 0.5px;"><span style="font-size: 13pt; line-height: 19.933334350585938px; font-family: Georgia; color: #1a1a1a;">Don’t miss out on our 2015 grand finale of Wine, Dine and Jazz!</span></p>
<p style="line-height: 15.180000305175781px; margin: 0px 0px 0px 1.25in; padding: 0px 0px 8px; color: #666666; font-family: 'Helvetica Neue', Helvetica, Arial, sans-serif; font-size: 13px; letter-spacing: 0.5px; text-indent: -1.25in;"><span style="font-size: 13pt; line-height: 19.933334350585938px; font-family: Georgia; color: #1a1a1a;">·                             Thursday, October 22nd</span></p>
<p style="line-height: 15.180000305175781px; margin: 0px 0px 0px 1.25in; padding: 0px 0px 8px; color: #666666; font-family: 'Helvetica Neue', Helvetica, Arial, sans-serif; font-size: 13px; letter-spacing: 0.5px; text-indent: -1.25in;"><span style="font-size: 13pt; line-height: 19.933334350585938px; font-family: Georgia; color: #1a1a1a;">·                             6:00 p.m. – 9:00 p.m.</span></p>
<p style="line-height: 15.180000305175781px; margin: 0px 0px 0px 1.25in; padding: 0px 0px 8px; color: #666666; font-family: 'Helvetica Neue', Helvetica, Arial, sans-serif; font-size: 13px; letter-spacing: 0.5px; text-indent: -1.25in;"><span style="font-size: 13pt; line-height: 19.933334350585938px; font-family: Georgia; color: #1a1a1a;">·                            Sip wines from Scheid Vineyards, Twisted Roots Wines and Cima Collina Wines</span></p>
<p style="line-height: 15.180000305175781px; margin: 0px 0px 0px 1.25in; padding: 0px 0px 8px; color: #666666; font-family: 'Helvetica Neue', Helvetica, Arial, sans-serif; font-size: 13px; letter-spacing: 0.5px; text-indent: -1.25in;"><span style="font-size: 13pt; line-height: 19.933334350585938px; font-family: Georgia; color: #1a1a1a;">·                             Savor small bites from the culinary team at TusCA Ristorante</span></p>
<p style="line-height: 15.180000305175781px; margin: 0px 0px 0px 1.25in; padding: 0px 0px 8px; color: #666666; font-family: 'Helvetica Neue', Helvetica, Arial, sans-serif; font-size: 13px; letter-spacing: 0.5px; text-indent: -1.25in;"><span style="font-size: 13pt; line-height: 19.933334350585938px; font-family: Georgia; color: #1a1a1a;">·                             Dessert bar from Monterey Meringues.</span></p>
<p style="line-height: 15.180000305175781px; margin: 0px 0px 0px 1.25in; padding: 0px 0px 8px; color: #666666; font-family: 'Helvetica Neue', Helvetica, Arial, sans-serif; font-size: 13px; letter-spacing: 0.5px; text-indent: -1.25in;"><span style="font-size: 13pt; line-height: 19.933334350585938px; font-family: Georgia; color: #1a1a1a;">·                            Listen to the sounds of the David Morwood jazz band featuring MJF clinicians, special guests, and "young phenoms" from the education program jamming and swinging' together!</span></p>
<p style="line-height: 15.180000305175781px; margin: 0px 0px 0px 1.25in; padding: 0px 0px 8px; color: #666666; font-family: 'Helvetica Neue', Helvetica, Arial, sans-serif; font-size: 13px; letter-spacing: 0.5px; text-indent: -1.25in;"><span style="font-size: 13pt; line-height: 19.933334350585938px; font-family: Georgia; color: #1a1a1a;">·                            Support Monterey Jazz Festival a 501(c)(3)non-profit arts education organization.  We celebrate the legacy of jazz and expand the boundaries of and opportunities to experience jazz through the creative production of performances and educational programs.  To learn more about Monterey Jazz Festival please visit <a href="http://montereyjazzfestival.org/" rel="nofollow" style="color: #0f90ba;"><span style="color: #103cc0;">montereyjazzfestival.org</span></a>.</span></p>
<p style="line-height: 15.180000305175781px; margin: 0px 0px 0px 1.25in; padding: 0px 0px 8px; color: #666666; font-family: 'Helvetica Neue', Helvetica, Arial, sans-serif; font-size: 13px; letter-spacing: 0.5px; text-indent: -1.25in;"><span style="font-size: 13pt; line-height: 19.933334350585938px; font-family: Georgia; color: #1a1a1a;">·                            Event to take place at TusCA Ristorante at Hyatt Regency Monterey Hotel and Spa at 1 Old Golf Course Road in Monterey.</span></p>
<p style="line-height: 15.180000305175781px; margin: 0px 0px 0px 1.25in; padding: 0px 0px 8px; color: #666666; font-family: 'Helvetica Neue', Helvetica, Arial, sans-serif; font-size: 13px; letter-spacing: 0.5px; text-indent: -1.25in;"><span style="font-size: 13pt; line-height: 19.933334350585938px; font-family: Georgia; color: #1a1a1a;">·                            Cost is $55.00 per person inclusive</span></p>
<p style="line-height: 15.180000305175781px; margin: 0px 0px 0px 1.25in; padding: 0px 0px 8px; color: #666666; font-family: 'Helvetica Neue', Helvetica, Arial, sans-serif; font-size: 13px; letter-spacing: 0.5px; text-indent: -1.25in;"><span style="font-size: 13pt; line-height: 19.933334350585938px; font-family: Georgia; color: #1a1a1a;">·                             A portion of everything raised that evening will benefit the Monterey Jazz Festival</span></p>
<p style="line-height: 15.180000305175781px; margin: 0px; padding: 0px 0px 8px; color: #666666; font-family: 'Helvetica Neue', Helvetica, Arial, sans-serif; font-size: 13px; letter-spacing: 0.5px;"><span style="font-size: 13pt; line-height: 19.933334350585938px; font-family: Georgia; color: #1a1a1a;">Tickets are available on <a href="https://hyattmontereywinedinejazz2015.eventbrite.com/" style="color: #0f90ba;"><span style="color: #103cc0;">https://hyattmontereywinedinejazz2015.eventbrite.com</span></a></span></p>
<p style="line-height: 15.180000305175781px; margin: 0px; padding: 0px 0px 8px; color: #666666; font-family: 'Helvetica Neue', Helvetica, Arial, sans-serif; font-size: 13px; letter-spacing: 0.5px;"> </p>
LOCATION:Hyatt Regency Monterey Hotel and Spa on Del Monte Golf Course  1 Old Golf Course Rd  Monterey, CA 93940
END:VEVENT
END:VCALENDAR