BEGIN:VCALENDAR
VERSION:2.0
BEGIN:VEVENT
URL:http://www.signaturewines.com/wine-community/events/viewevent/452-catch-of-the-central-coast-2015 
DTSTART:20150912T170000
DTEND:20150912T210000
SUMMARY:Catch of the Central Coast 2015
DESCRIPTION:<p style="line-height: normal; margin: 0px; padding: 0px 0px 8px; color: #666666; font-family: 'Helvetica Neue', Helvetica, Arial, sans-serif; font-size: 13px; letter-spacing: 0.5px;"><strong><span style="line-height: 1.6em;">BUY YOUR TICKETS HERE: </span></strong><span style="color: #333333; font-family: Tahoma, Helvetica, Arial, sans-serif; font-size: 12px; line-height: 1.3em;">http://www.eventbrite.com/e/catch-of-the-central-coast-2015-tickets-17596928888?aff=es2</span></p>
<p style="line-height: normal; margin: 0px; padding: 0px 0px 8px; color: #666666; font-family: 'Helvetica Neue', Helvetica, Arial, sans-serif; font-size: 13px; letter-spacing: 0.5px;"><span style="line-height: 1.6em;">This year guests will enjoy a unique setting of spectacular ocean views while dining over the water on the Harford Pier at the Port San Luis Harbor in Avila Beach. This limited seating event will include live music and both a live and silent auction. Guests will be able to choose from a locally sourced sustainable seafood dinner or non-seafood options, complete with local wine. “Our goal is to inspire people to think, act and to feel connected to the ocean and the life within it,” says executive director Tara Malzone. “Holding our fundraiser fifteen feet above the oceans surface is the perfect place to celebrate marine education.”</span></p>
<p style="line-height: normal; margin: 0px; padding: 0px 0px 8px; color: #666666; font-family: 'Helvetica Neue', Helvetica, Arial, sans-serif; font-size: 13px; letter-spacing: 0.5px;"><span style="line-height: 1.6em;">Catch of the Central Coast is a benefit for the Central Coast Aquarium (CCA) a San Luis Obispo County non-profit 501c3 organization whose mission is to cultivate a community dedicated to ocean stewardship through education, engagement and action.</span></p>
<p style="line-height: normal; margin: 0px; padding: 0px 0px 8px; color: #666666; font-family: 'Helvetica Neue', Helvetica, Arial, sans-serif; font-size: 13px; letter-spacing: 0.5px;"><span style="line-height: 1.6em;">Many locals experience the CCA through its Avila Beach location and public aquarium. But our primary mission is to serve the community as a marine science education center for children. The organization has been serving school children across six counties for 20 years. </span></p>
<p style="line-height: normal; margin: 0px; padding: 0px 0px 8px; color: #666666; font-family: 'Helvetica Neue', Helvetica, Arial, sans-serif; font-size: 13px; letter-spacing: 0.5px;"><span style="line-height: 1.6em;">The CCA is a valuable community resource providing marine programs to over 60,000 kids between Monterey and Santa Barbara.</span></p>
<p style="line-height: normal; margin: 0px; padding: 0px 0px 8px; color: #666666; font-family: 'Helvetica Neue', Helvetica, Arial, sans-serif; font-size: 13px; letter-spacing: 0.5px;"><span style="line-height: 1.6em;">For more information about the Catch of the Central Coast event or about the Central Coast Aquarium, please contact Tara Malzone at </span><span style="line-height: 1.6em;">805-595-7280</span><span style="line-height: 1.6em;"> or visit our website at <a href="http://www.centralcoastaquarium.com/" rel="nofollow" style="color: #d94728;">www.centralcoastaquarium.com</a></span></p>
LOCATION:Hartford Pier at Port San Luis  3993 Avila Beach Dr  Avila Beach, CA 93405
END:VEVENT
END:VCALENDAR