BEGIN:VCALENDAR
VERSION:2.0
BEGIN:VEVENT
URL:http://www.signaturewines.com/wine-community/events/viewevent/454-russian-river-valley-single-vineyard-night-san-francisco 
DTSTART:20151104T173000
DTEND:20151104T203000
SUMMARY:Russian River Valley Single Vineyard Night - San Francisco
DESCRIPTION:<p><strong>BUY YOUR TICKETS HERE: </strong><span style="line-height: 1.3em;">http://www.eventbrite.com/e/russian-river-valley-single-vineyard-night-san-francisco-tickets-17900815822?aff=es2</span></p>
<p style="line-height: normal; margin: 0px; padding: 0px 0px 8px; color: #030303; font-family: 'Helvetica Neue', Helvetica, Arial, sans-serif; font-size: 13px; letter-spacing: 0.5px;" align="center"><span style="font-family: arial, helvetica, sans-serif;">Join the Russian River Valley Winegrowers for a stellar tasting experience of Russian River Valley Single Vineyard wines on Thursday, November 5th at the Golden Gate Club at the Presidio. More than 30 winemakers and winegrowers will be pouring small-lot, single vineyard wines and local chefs will be sharing small bites to pair with them as well!</span></p>
<p style="line-height: normal; margin: 0px; padding: 0px 0px 8px; color: #030303; font-family: 'Helvetica Neue', Helvetica, Arial, sans-serif; font-size: 13px; letter-spacing: 0.5px;" align="center"><span style="font-weight: bold;">The VIP Experience</span> - A limited number of VIP Ticket are available. Enter one hour early and receive exclusive tastings of rare, limited release and tasting room only wines. VIP ticket holders receive one instant cellar raffle ticket.</p>
<p style="line-height: normal; margin: 0px; padding: 0px 0px 8px; color: #030303; font-family: 'Helvetica Neue', Helvetica, Arial, sans-serif; font-size: 13px; letter-spacing: 0.5px;"><span style="font-family: arial, helvetica, sans-serif;"><span style="font-weight: bold;">Silent Auction and Instant Cellar Raffle</span> - We're pulling together some exclusive Russian River Valley experiences for our silent auction and will also have Instant Cellar raffle tickets available, with one winner walking away with over 3 cases of spectacular Russian River Valley wine! Must be present to win. </span></p>
<p style="line-height: normal; margin: 0px; padding: 0px 0px 8px; color: #030303; font-family: 'Helvetica Neue', Helvetica, Arial, sans-serif; font-size: 13px; letter-spacing: 0.5px;" align="center"><span style="font-family: arial, helvetica, sans-serif;"><span style="font-weight: bold;">This year's participating wineries will be added soon! Take a look below for 2014 Single Vineyard Night participating wineries.!</span></span></p>
<p style="line-height: normal; margin: 0px; padding: 0px 0px 8px; color: #030303; font-family: 'Helvetica Neue', Helvetica, Arial, sans-serif; font-size: 13px; letter-spacing: 0.5px;"> </p>
<table style="border-collapse: collapse; border-spacing: 0px; color: #030303; font-family: 'Helvetica Neue', Helvetica, Arial, sans-serif; font-size: 13px; letter-spacing: 0.5px; line-height: 15.84000015258789px;" border="0">
<tbody>
<tr>
<td>
<p style="line-height: normal; margin: 0px; padding: 0px 0px 8px;"><span style="font-family: arial, helvetica, sans-serif; font-size: small;"><span style="font-weight: bold;">2014 Participating Wineries:</span></span></p>
<ul style="margin: 0px;">
<li><span style="font-family: arial, helvetica, sans-serif; font-size: small;">ACORN Winery/Alegría Vineyards</span></li>
</ul>
<ul style="margin: 0px;">
<li><span style="font-family: arial, helvetica, sans-serif; font-size: small;">Ancient Oak Cellars</span></li>
<li><span style="font-family: arial, helvetica, sans-serif; font-size: small;">Bacigalupi Vineyards</span></li>
<li><span style="font-family: arial, helvetica, sans-serif; font-size: small;">Balletto Vineyards & Winery<br /></span></li>
<li><span style="font-family: arial, helvetica, sans-serif; font-size: small;">Bucher Vineyard Wines</span></li>
<li><span style="font-family: arial, helvetica, sans-serif; font-size: small;">C. Donatiello Winery<br /></span></li>
<li><span style="font-family: arial, helvetica, sans-serif; font-size: small;">Carrozzi Vineyards</span></li>
<li><span style="font-family: arial, helvetica, sans-serif; font-size: small;">Cartograph Wines</span></li>
<li><span style="font-family: arial, helvetica, sans-serif; font-size: small;">Christopher Creek</span></li>
<li><span style="font-family: arial, helvetica, sans-serif; font-size: small;">Davis Bynum<br /></span></li>
<li><span style="font-family: arial, helvetica, sans-serif; font-size: small;">Davis Family Vineyards<br /></span></li>
<li><span style="font-family: arial, helvetica, sans-serif; font-size: small;">DRNK Wines</span></li>
<li><span style="font-family: arial, helvetica, sans-serif; font-size: small;">Dutton Estate Winery<br /></span></li>
<li><span style="font-family: arial, helvetica, sans-serif; font-size: small;">Dutton-Goldfield</span></li>
<li><span style="font-family: arial, helvetica, sans-serif; font-size: small;">Gordian Knot Winery</span></li>
<li><span style="font-family: arial, helvetica, sans-serif; font-size: small;">HANNA Winery</span></li>
<li style="font-family: arial, helvetica, sans-serif; font-size: small;">Harvest Moon Winery</li>
<li style="font-family: arial, helvetica, sans-serif; font-size: small;">HKG Estate @ Hop Kiln Vineyards</li>
<li style="font-family: arial, helvetica, sans-serif; font-size: small;">J Vineyards & Winery</li>
</ul>
</td>
<td><br />
<ul style="margin: 0px;">
<li><span style="font-family: arial, helvetica, sans-serif; font-size: small;">Joseph Swan Vineyards</span></li>
<li><span style="font-family: arial, helvetica, sans-serif; font-size: small;">La Crema Winery</span></li>
<li><span style="font-family: arial, helvetica, sans-serif; font-size: small;">La Follette Wines<br /></span></li>
<li><span style="font-family: arial, helvetica, sans-serif; font-size: small;">Lauterbach Cellars</span></li>
<li><span style="font-family: arial, helvetica, sans-serif; font-size: small;">MacPhail Family Wines<br /></span></li>
<li><span style="font-family: arial, helvetica, sans-serif; font-size: small;">MacRostie Winery & Vineyards<br /></span></li>
<li><span style="font-family: arial, helvetica, sans-serif; font-size: small;">Martinelli Winery</span></li>
<li><span style="font-family: arial, helvetica, sans-serif; font-size: small;">Medlock Ames</span></li>
<li><span style="font-family: arial, helvetica, sans-serif; font-size: small;">Moshin Vineyards<br /></span></li>
<li><span style="font-family: arial, helvetica, sans-serif; font-size: small;">Mueller Winery</span></li>
<li><span style="font-family: arial, helvetica, sans-serif; font-size: small;">Nunes Vineyard/St. Rose Winery</span></li>
<li><span style="font-family: arial, helvetica, sans-serif; font-size: small;">Russian River Vineyards</span></li>
<li><span style="font-family: arial, helvetica, sans-serif; font-size: small;">Sojourn Cellars<br /></span></li>
<li><span style="font-family: arial, helvetica, sans-serif; font-size: small;">Siduri/Novy Family Wines</span></li>
<li><span style="font-family: arial, helvetica, sans-serif; font-size: small;">Teac Mor<br /></span></li>
<li><span style="font-family: arial, helvetica, sans-serif; font-size: small;">Thomas George Estates</span></li>
<li><span style="font-family: arial, helvetica, sans-serif; font-size: small;">TR Elliott<br /></span></li>
<li><span style="font-family: arial, helvetica, sans-serif; font-size: small;">Trione Vineyards</span></li>
<li><span style="font-family: arial, helvetica, sans-serif; font-size: small;">Valdez Family Winery<br /></span></li>
<li><span style="font-family: arial, helvetica, sans-serif; font-size: small;">Viszlay Vineyards<br /></span></li>
<li><span style="font-family: arial, helvetica, sans-serif; font-size: small;">Y. Rousseau Wines<br /></span></li>
</ul>
</td>
</tr>
<tr>
<td> </td>
<td> </td>
</tr>
</tbody>
</table>
<p style="line-height: normal; margin: 0px; padding: 0px 0px 8px; color: #030303; font-family: 'Helvetica Neue', Helvetica, Arial, sans-serif; font-size: 13px; letter-spacing: 0.5px;"><span style="font-family: arial, helvetica, sans-serif;">Silent auction items will also be on display, benefiting the Russian River Valley Winegrowers continued work to preserve the region’s agriculture legacy through marketing and education.</span></p>
<p style="line-height: normal; margin: 0px; padding: 0px 0px 8px; color: #030303; font-family: 'Helvetica Neue', Helvetica, Arial, sans-serif; font-size: 13px; letter-spacing: 0.5px;"><span style="font-family: arial, helvetica, sans-serif;"><span style="font-size: small; background-image: none; background-attachment: scroll; background-position: 0% 0%; background-repeat: repeat repeat;">21 & Over Only - All Sales Final - No Refunds</span></span></p>
LOCATION:Golden Gate Club at the Presidio  135 Fisher Loop  San Francisco, CA 94129
END:VEVENT
END:VCALENDAR