BEGIN:VCALENDAR
VERSION:2.0
BEGIN:VEVENT
URL:http://www.signaturewines.com/wine-community/events/viewevent/455-12th-annual-wine-spirits-magazine-s-top-100-tasting-event 
DTSTART:20151020T183000
DTEND:20151020T203000
SUMMARY:12th Annual Wine & Spirits Magazine's Top 100 Tasting Event
DESCRIPTION:<p><strong>BUY YOUR TICKETS HERE: </strong><span style="line-height: 1.3em;">https://www.eventbrite.com/e/12th-annual-wine-spirits-magazines-top-100-tasting-event-tickets-18193036863?aff=efbnreg</span></p>
<p style="line-height: normal; margin: 0px; padding: 0px 0px 8px; color: #000000; font-family: 'Helvetica Neue', Helvetica, Arial, sans-serif; font-size: 13px; letter-spacing: 0.5px;"><span style="line-height: 1.6em;">The 12th annual Top 100 Tasting Event honors wineries from around the world that have delivered the best performances in </span><em style="line-height: 1.6em;">W&S</em><span style="line-height: 1.6em;"> tastings throughout the year. </span><span style="line-height: 1.6em;">Don't miss your chance to taste some of the world's most sought-after wines paired with delicious bites!</span></p>
<p style="line-height: normal; margin: 0px; padding: 0px 0px 8px; color: #000000; font-family: 'Helvetica Neue', Helvetica, Arial, sans-serif; font-size: 13px; letter-spacing: 0.5px;"><span style="line-height: 20.7999992370605px;">For more details, go </span>to:<span style="line-height: 20.7999992370605px;"> </span><a href="http://wineandspiritsmagazine.com/top100" target="_blank" rel="nofollow" style="color: #007ccf; line-height: 20.7999992370605px;">wineandspiritsmagazine.com/top100</a></p>
<p style="line-height: normal; margin: 0px; padding: 0px 0px 8px; color: #000000; font-family: 'Helvetica Neue', Helvetica, Arial, sans-serif; font-size: 13px; letter-spacing: 0.5px;"><span style="line-height: 20.7999992370605px;">Join </span><em style="line-height: 20.7999992370605px;">Wine & Spirits</em><span style="line-height: 20.7999992370605px;"> Magazine as we celebrate the Top 100 Wineries of the Year.</span></p>
LOCATION:City View at METREON, San Francisco  135 4th St  San Francisco, CA 94103
END:VEVENT
END:VCALENDAR