BEGIN:VCALENDAR
VERSION:2.0
BEGIN:VEVENT
URL:http://www.signaturewines.com/wine-community/events/viewevent/456-the-10th-annual-newport-mansions-wine-food-festival-september-25-27-2015 
DTSTART:20150926T120000
DTEND:20150927T160000
SUMMARY:The 10th Annual Newport Mansions Wine & Food Festival September 25-27, 2015
DESCRIPTION:<p><strong>BUY YOUR TICKETS HERE: </strong><span style="line-height: 1.3em;">http://www.newportmansions.org/events/wine-and-food-festival/tickets-events</span></p>
<p style="margin: 0px 0px 1em; padding: 0px; color: #000000; font-family: Times; line-height: normal;"><span style="font-family: verdana, geneva; font-size: small;">Wineries from around the world will be pouring hundreds of wines.  You'll also enjoy delicious food samplings from local and regional restaurants, caterers and suppliers, and free cooking demonstrations and book signings, all included in your Grand Tasting admission.</span></p>
<p style="margin: 0px 0px 1em; padding: 0px; color: #000000; font-family: Times; line-height: normal;"><span style="font-family: verdana, geneva; font-size: small;">Free parking at Easton's Beach on Memorial Boulevard with free shuttle service to Marble House.  No onsite parking.</span></p>
<p style="margin: 0px 0px 1em; padding: 0px; color: #000000; font-family: Times; line-height: normal;"><em><span style="font-family: verdana, geneva; font-size: small;">Advance purchase price valid through September 14, 2015. </span></em></p>
<p style="margin: 0px 0px 1em; padding: 0px; color: #000000; font-family: Times; line-height: normal;"><strong><span style="font-family: verdana, geneva; font-size: small;">Tickets are non-refundable</span></strong></p>
<p style="margin: 0px 0px 1em; padding: 0px; color: #000000; font-family: Times; line-height: normal;"><strong><span style="font-family: verdana, geneva; font-size: small;">All attendees must be 21 or over.  No one under the age of 21 will be admitted.</span></strong></p>
<p><strong><span style="font-family: verdana, geneva; font-size: small;"> </span></strong></p>
LOCATION:596 Bellevue Avenue Newport, RI 02840
END:VEVENT
END:VCALENDAR