BEGIN:VCALENDAR
VERSION:2.0
BEGIN:VEVENT
URL:http://www.signaturewines.com/wine-community/events/viewevent/457-newport-beach-wine-food-festival-benefit-project-hope-alliance 
DTSTART:20151003T130000
DTEND:20151004T170000
SUMMARY:Newport Beach Wine & Food Festival  Benefit: Project Hope Alliance 
DESCRIPTION:<p><strong>BUY YOUR TICKETS HERE: </strong><span style="line-height: 1.3em;">http://www.newportwineandfood.com/tickets/</span></p>
<p style="margin: 0px; font-size: 14px; line-height: normal; font-family: Times;">Following the success of the inaugural event, the Newport Beach Wine & Food Festival returns to Newport Beach, CA October 2-4, 2015. The Festival begins on the evening of Friday, October 2, with the official Launch Party & Charity Event at Oak Grill and Aqua Lounge, one of Newport Beach’s hottest nightspots and dining destinations. During the Daytime Festival on Saturday, October 3, and Sunday, October 4, enjoy live cooking demos with celebrity chefs, interactive wine panels with master sommeliers, mixology courses and live jazz. Our Grand Tasting Pavilions will boast 30 of OC’s finest restaurants with over 200 wines poured for tastings. Saturday and Sunday daytime events takes place at the Newport Beach Civic Center. Net proceeds from the weekend benefit charity partner Project Hope Alliance. </p>
<p style="box-sizing: border-box; margin: 0px; color: #000000; font-family: 'Istok Web'; font-size: 11px; line-height: 19px;"><span style="box-sizing: border-box; font-weight: bold; font-size: 12px; color: #5a2b10;">Date:</span> Saturday, October 3<br style="box-sizing: border-box;" /><span style="box-sizing: border-box; font-weight: bold; font-size: 12px; color: #5a2b10;">Time:</span> 1:00 p.m. – 5:00 p.m.<br style="box-sizing: border-box;" /><span style="box-sizing: border-box; font-weight: bold; font-size: 12px; color: #5a2b10;">Location:</span> Newport Beach Civic Center (100 Civic Center Dr, Newport Beach, CA 92660)</p>
<ul style="box-sizing: border-box; margin-top: 0px; margin-bottom: 0px; color: #000000; font-family: 'Istok Web'; font-size: 11px; line-height: 19px;">
<li style="box-sizing: border-box; line-height: 17px;">Celebrity chef cooking demos</li>
<li style="box-sizing: border-box; line-height: 17px;">Wine Seminar led by Master Sommeliers</li>
<li style="box-sizing: border-box; line-height: 17px;">2 Grand Tasting Pavilions with tastings from top restaurants</li>
<li style="box-sizing: border-box; line-height: 17px;">200 high-end, boutique and cult wines</li>
<li style="box-sizing: border-box; line-height: 17px;">Mixology courses, handcrafted cocktails, beer tastings</li>
<li style="box-sizing: border-box; line-height: 17px;">Live jazz</li>
</ul>
LOCATION:(100 Civic Center Dr, Newport Beach, CA 92660
END:VEVENT
END:VCALENDAR