BEGIN:VCALENDAR
VERSION:2.0
BEGIN:VEVENT
URL:http://www.signaturewines.com/wine-community/events/viewevent/459-local-wine-tasting 
DTSTART:20150912T180000
DTEND:20150912T210000
SUMMARY:Local Wine Tasting
DESCRIPTION:<p><span class="description"><span style="font-family: arial,helvetica,sans-serif; font-size: medium; color: #808080;">Join us for an amazing tasting event featuring wines from select members of the Santa Cruz Mountain Wine Association.  SCMWA consists of more than 70 wineries, most of them family-run, working to promote the unique aspects of their wines & region. The small size of the wineries allows for greater attention to detail and a hand-crafted wine quality that maximizes the potential of the grapes grown right in our own backyard. <br /><br />La Rusticana, La Honda and Ridge Winery will be pouring both brand new releases and familiar favorites as part of the tasting.  Tickets are $40 and include the wine tasting and house-made appetizers. A percentage of ticket sales will go directly to Silicon Valley Pet Project (SVPP).  There will also be a raffle with prizes from the wineries, illy coffee and Purple Onion Cafe with proceeds also going directly to SVPP. <br /><br />Silicon Valley Pet Project (SVPP)  is a nonprofit organization of volunteers committed to saving local at-risk shelter pets through rescue, community involvement and education. They rescue, rehabilitate and rehome both cats and dogs of all breeds, as well as senior and special-needs pets, from the San Jose Animal Care and Services Center (SJACS), one of the largest municipal shelters on the West Coast. Pets are fostered in caring, temporary homes until they are ready to be put up for adoption.</span></span></p>
<p><span class="description"><span style="font-family: arial,helvetica,sans-serif; font-size: medium; color: #808080;">Purchase tickets on Eventbrite:<br /></span></span></p>
<p><span class="description"><span style="font-family: arial,helvetica,sans-serif; font-size: medium; color: #808080;">https://www.eventbrite.com/e/local-wine-tasting-tickets-18126752605</span></span></p>
LOCATION:26 E. Main St., Los Gatos, CA  95032
END:VEVENT
END:VCALENDAR