BEGIN:VCALENDAR
VERSION:2.0
BEGIN:VEVENT
URL:http://www.signaturewines.com/wine-community/events/viewevent/46-an-evening-of-wine-roses 
DTSTART:20111104T180000
DTEND:20111104T210000
SUMMARY:An Evening of Wine & Roses
DESCRIPTION:<p>The Pajaro Valley Community Health Trust presents An Evening of Wine & Roses. This annual gala fundraiser is one of the highlights of the pre-holiday season. Click here http://www.pvhealthtrust.org/events.html for more information, tickets, and further details.</p>
LOCATION:Santa Cruz County Fairgrounds, 2601 East Lake Avenue, Watsonville, California
END:VEVENT
END:VCALENDAR