BEGIN:VCALENDAR
VERSION:2.0
BEGIN:VEVENT
URL:http://www.signaturewines.com/wine-community/events/viewevent/460-the-7th-annual-la-jolla-art-wine-festival 
DTSTART:20151011T120000
DTEND:20151012T180000
SUMMARY:The 7th annual La Jolla Art & Wine Festival
DESCRIPTION:<p class="font_8" style="margin: 0px; padding: 0px; border: 0px; outline: 0px; vertical-align: baseline; background-color: transparent; font-size: 13px; line-height: normal; font-family: 'Open Sans', sans-serif; color: #414547;">The 2015 La Jolla Art & Wine Festival returns to La Jolla for its sixth annual season on October 10th and 11th in the heart of the village, on Girard Ave. This two-day juried art show and fundraiser has quickly garnered a reputation as one of the most prestigious art & wine festivals in Southern California. The La Jolla Art & Wine Festival is free and open to the public.</p>
<p class="font_8" style="margin: 0px; padding: 0px; border: 0px; outline: 0px; vertical-align: baseline; background-color: transparent; font-size: 13px; line-height: normal; font-family: 'Open Sans', sans-serif; color: #414547;"> </p>
<p class="font_8" style="margin: 0px; padding: 0px; border: 0px; outline: 0px; vertical-align: baseline; background-color: transparent; font-size: 13px; line-height: normal; font-family: 'Open Sans', sans-serif; color: #414547;">Featuring the works of over 150 established artists from San Diego, Los Angeles, Orange County, Baja and beyond, the LJAWF features something for everyone including a silent auction, roving entertainment, a gourmet marketplace, the family art center and a wine and beer garden which will include premier wineries in addition to San Diego’s top breweries.</p>
<p class="font_8" style="margin: 0px; padding: 0px; border: 0px; outline: 0px; vertical-align: baseline; background-color: transparent; font-size: 13px; line-height: normal; font-family: 'Open Sans', sans-serif; color: #414547;"> </p>
<p class="font_8" style="margin: 0px; padding: 0px; border: 0px; outline: 0px; vertical-align: baseline; background-color: transparent; font-size: 13px; line-height: normal; font-family: 'Open Sans', sans-serif; color: #414547;">The festival was originally created by Friends of La Jolla Elementary, founders of the La Jolla Open Aire Market, and has most recently garnered the support and established a partnership with the <span style="margin: 0px; padding: 0px; border: 0px; outline: 0px; vertical-align: baseline; background-color: transparent; text-decoration: underline; background-position: initial initial; background-repeat: initial initial;"><a href="http://www.lajollabythesea.com/" target="_blank" style="margin: 0px; padding: 0px; border: 0px; outline: 0px; vertical-align: baseline; background-color: transparent; cursor: pointer; color: inherit;">La Jolla Village Merchants Association</a></span>. All profits raised benefit underfunded programs such as art, music, science, physical education, technology, and on-site medical care at local public elementary and middle schools. Since launching in 2009, the LJAWF has raised over $338,000.</p>
<p class="font_8" style="margin: 0px; padding: 0px; border: 0px; outline: 0px; vertical-align: baseline; background-color: transparent; font-size: 13px; line-height: normal; font-family: 'Open Sans', sans-serif; color: #414547;">The Wine and Beer Garden is open on Saturday from noon to 7:00pm and Sunday from noon to 6:00pm.  Patrons 21 and older can discover and enjoy regional and international wines as well as local San Diego craft beers. Stop by and sample the delectable wines from Valle De Guadalupe, California, France and more. Come celebrate the wide variety of internationally renowned brews by our San Diego craft breweries.</p>
<p class="font_8" style="margin: 0px; padding: 0px; border: 0px; outline: 0px; vertical-align: baseline; background-color: transparent; font-size: 13px; line-height: normal; font-family: 'Open Sans', sans-serif; color: #414547;"> </p>
<p class="font_8" style="margin: 0px; padding: 0px; border: 0px; outline: 0px; vertical-align: baseline; background-color: transparent; font-size: 13px; line-height: normal; font-family: 'Open Sans', sans-serif; color: #414547;">There is no charge to enter the wine and beer garden.  Single tickets for a wine or beer tasting is $4 and six pack of tickets is $20.</p>
<p class="font_8" style="margin: 0px; padding: 0px; border: 0px; outline: 0px; vertical-align: baseline; background-color: transparent; font-size: 13px; line-height: normal; font-family: 'Open Sans', sans-serif; color: #414547;"> </p>
<p class="font_8" style="margin: 0px; padding: 0px; border: 0px; outline: 0px; vertical-align: baseline; background-color: transparent; font-size: 13px; line-height: normal; font-family: 'Open Sans', sans-serif; color: #414547;">Please see below for a list of our 2014 Breweries and Wineries.</p>
<p class="font_8" style="margin: 0px; padding: 0px; border: 0px; outline: 0px; vertical-align: baseline; background-color: transparent; font-size: 13px; line-height: normal; font-family: 'Open Sans', sans-serif; color: #414547;"> </p>
<p class="font_8" style="margin: 0px; padding: 0px; border: 0px; outline: 0px; vertical-align: baseline; background-color: transparent; font-size: 14px; line-height: normal; font-family: 'Open Sans', sans-serif; color: #414547; text-align: center;"><span style="margin: 0px; padding: 0px; border: 0px; outline: 0px; vertical-align: baseline; background-color: transparent;"><span style="margin: 0px; padding: 0px; border: 0px; outline: 0px; vertical-align: baseline; background-color: transparent; font-weight: bold; background-position: initial initial; background-repeat: initial initial;"><span style="margin: 0px; padding: 0px; border: 0px; outline: 0px; vertical-align: baseline; background-color: transparent; text-decoration: underline; background-position: initial initial; background-repeat: initial initial;">WINERIES</span></span></span></p>
<p class="font_8" style="margin: 0px; padding: 0px; border: 0px; outline: 0px; vertical-align: baseline; background-color: transparent; font-size: 14px; line-height: normal; font-family: 'Open Sans', sans-serif; color: #414547; text-align: center;"><span style="margin: 0px; padding: 0px; border: 0px; outline: 0px; vertical-align: baseline; background-color: transparent;">Bird Rock Fine Wine</span></p>
<p class="font_8" style="margin: 0px; padding: 0px; border: 0px; outline: 0px; vertical-align: baseline; background-color: transparent; font-size: 14px; line-height: normal; font-family: 'Open Sans', sans-serif; color: #414547; text-align: center;"><span style="margin: 0px; padding: 0px; border: 0px; outline: 0px; vertical-align: baseline; background-color: transparent;">Ascension Cellars</span></p>
<p class="font_8" style="margin: 0px; padding: 0px; border: 0px; outline: 0px; vertical-align: baseline; background-color: transparent; font-size: 14px; line-height: normal; font-family: 'Open Sans', sans-serif; color: #414547; text-align: center;"><span style="margin: 0px; padding: 0px; border: 0px; outline: 0px; vertical-align: baseline; background-color: transparent;">Schlossadler</span></p>
<p class="font_8" style="margin: 0px; padding: 0px; border: 0px; outline: 0px; vertical-align: baseline; background-color: transparent; font-size: 14px; line-height: normal; font-family: 'Open Sans', sans-serif; color: #414547; text-align: center;"><span style="margin: 0px; padding: 0px; border: 0px; outline: 0px; vertical-align: baseline; background-color: transparent;">Francis Ford Coppola</span></p>
<p class="font_8" style="margin: 0px; padding: 0px; border: 0px; outline: 0px; vertical-align: baseline; background-color: transparent; font-size: 14px; line-height: normal; font-family: 'Open Sans', sans-serif; color: #414547; text-align: center;"><span style="margin: 0px; padding: 0px; border: 0px; outline: 0px; vertical-align: baseline; background-color: transparent;">Emeve</span></p>
<p class="font_8" style="margin: 0px; padding: 0px; border: 0px; outline: 0px; vertical-align: baseline; background-color: transparent; font-size: 14px; line-height: normal; font-family: 'Open Sans', sans-serif; color: #414547; text-align: center;"><span style="margin: 0px; padding: 0px; border: 0px; outline: 0px; vertical-align: baseline; background-color: transparent;">Hacienda La Lomita</span></p>
<p class="font_8" style="margin: 0px; padding: 0px; border: 0px; outline: 0px; vertical-align: baseline; background-color: transparent; font-size: 14px; line-height: normal; font-family: 'Open Sans', sans-serif; color: #414547; text-align: center;"><span style="margin: 0px; padding: 0px; border: 0px; outline: 0px; vertical-align: baseline; background-color: transparent;">Cavas Valmar</span></p>
<p class="font_8" style="margin: 0px; padding: 0px; border: 0px; outline: 0px; vertical-align: baseline; background-color: transparent; font-size: 14px; line-height: normal; font-family: 'Open Sans', sans-serif; color: #414547; text-align: center;"><span style="margin: 0px; padding: 0px; border: 0px; outline: 0px; vertical-align: baseline; background-color: transparent;">Bodegas Santo Tomas</span></p>
<p class="font_8" style="margin: 0px; padding: 0px; border: 0px; outline: 0px; vertical-align: baseline; background-color: transparent; font-size: 14px; line-height: normal; font-family: 'Open Sans', sans-serif; color: #414547; text-align: center;"><span style="margin: 0px; padding: 0px; border: 0px; outline: 0px; vertical-align: baseline; background-color: transparent;">Vena Cava</span></p>
<p class="font_8" style="margin: 0px; padding: 0px; border: 0px; outline: 0px; vertical-align: baseline; background-color: transparent; font-size: 14px; line-height: normal; font-family: 'Open Sans', sans-serif; color: #414547; text-align: center;"><span style="margin: 0px; padding: 0px; border: 0px; outline: 0px; vertical-align: baseline; background-color: transparent;">Fratelli Pasini</span></p>
<p class="font_8" style="margin: 0px; padding: 0px; border: 0px; outline: 0px; vertical-align: baseline; background-color: transparent; font-size: 14px; line-height: normal; font-family: 'Open Sans', sans-serif; color: #414547; text-align: center;"><span style="margin: 0px; padding: 0px; border: 0px; outline: 0px; vertical-align: baseline; background-color: transparent;">Lechuza Vineyard</span></p>
<p class="font_8" style="margin: 0px; padding: 0px; border: 0px; outline: 0px; vertical-align: baseline; background-color: transparent; font-size: 14px; line-height: normal; font-family: 'Open Sans', sans-serif; color: #414547; text-align: center;"><span style="margin: 0px; padding: 0px; border: 0px; outline: 0px; vertical-align: baseline; background-color: transparent;">Cava Maciel</span></p>
<p class="font_8" style="margin: 0px; padding: 0px; border: 0px; outline: 0px; vertical-align: baseline; background-color: transparent; font-size: 14px; line-height: normal; font-family: 'Open Sans', sans-serif; color: #414547; text-align: center;"><span style="margin: 0px; padding: 0px; border: 0px; outline: 0px; vertical-align: baseline; background-color: transparent;">La Serenissima</span></p>
<p class="font_7" style="margin: 0px; padding: 0px; border: 0px; outline: 0px; vertical-align: baseline; background-color: transparent; font-size: 15px; line-height: normal; font-family: 'open sans', sans-serif; color: #414547; text-align: center;">New Age Wines</p>
<p class="font_7" style="margin: 0px; padding: 0px; border: 0px; outline: 0px; vertical-align: baseline; background-color: transparent; font-size: 15px; line-height: normal; font-family: 'open sans', sans-serif; color: #414547; text-align: center;">Gen7 Wines</p>
<p class="font_7" style="margin: 0px; padding: 0px; border: 0px; outline: 0px; vertical-align: baseline; background-color: transparent; font-size: 15px; line-height: normal; font-family: 'open sans', sans-serif; color: #414547; text-align: center;">Vinicola La Trinidad</p>
<p class="font_7" style="margin: 0px; padding: 0px; border: 0px; outline: 0px; vertical-align: baseline; background-color: transparent; font-size: 15px; line-height: normal; font-family: 'open sans', sans-serif; color: #414547; text-align: center;">Gianni Buonomo Vinters</p>
<p class="font_8" style="margin: 0px; padding: 0px; border: 0px; outline: 0px; vertical-align: baseline; background-color: transparent; font-size: 14px; line-height: normal; font-family: 'Open Sans', sans-serif; color: #414547; text-align: center;"> </p>
<p class="font_8" style="margin: 0px; padding: 0px; border: 0px; outline: 0px; vertical-align: baseline; background-color: transparent; font-size: 14px; line-height: normal; font-family: 'Open Sans', sans-serif; color: #414547; text-align: center;"><span style="margin: 0px; padding: 0px; border: 0px; outline: 0px; vertical-align: baseline; background-color: transparent;"><span style="margin: 0px; padding: 0px; border: 0px; outline: 0px; vertical-align: baseline; background-color: transparent; font-weight: bold; background-position: initial initial; background-repeat: initial initial;"><span style="margin: 0px; padding: 0px; border: 0px; outline: 0px; vertical-align: baseline; background-color: transparent; text-decoration: underline; background-position: initial initial; background-repeat: initial initial;">BREWERIES</span></span></span></p>
<p class="font_8" style="margin: 0px; padding: 0px; border: 0px; outline: 0px; vertical-align: baseline; background-color: transparent; font-size: 14px; line-height: normal; font-family: 'Open Sans', sans-serif; color: #414547; text-align: center;"><span style="margin: 0px; padding: 0px; border: 0px; outline: 0px; vertical-align: baseline; background-color: transparent;">Stone Brewing Co.</span></p>
<p class="font_8" style="margin: 0px; padding: 0px; border: 0px; outline: 0px; vertical-align: baseline; background-color: transparent; font-size: 14px; line-height: normal; font-family: 'Open Sans', sans-serif; color: #414547; text-align: center;"><span style="margin: 0px; padding: 0px; border: 0px; outline: 0px; vertical-align: baseline; background-color: transparent;">Green Flash Brewing Co.</span></p>
<p class="font_8" style="margin: 0px; padding: 0px; border: 0px; outline: 0px; vertical-align: baseline; background-color: transparent; font-size: 14px; line-height: normal; font-family: 'Open Sans', sans-serif; color: #414547; text-align: center;"><span style="margin: 0px; padding: 0px; border: 0px; outline: 0px; vertical-align: baseline; background-color: transparent;">Coronado Brewing Company</span></p>
<p class="font_8" style="margin: 0px; padding: 0px; border: 0px; outline: 0px; vertical-align: baseline; background-color: transparent; font-size: 14px; line-height: normal; font-family: 'Open Sans', sans-serif; color: #414547; text-align: center;"><span style="margin: 0px; padding: 0px; border: 0px; outline: 0px; vertical-align: baseline; background-color: transparent;">Helm’s Brewing Company</span></p>
<p class="font_8" style="margin: 0px; padding: 0px; border: 0px; outline: 0px; vertical-align: baseline; background-color: transparent; font-size: 14px; line-height: normal; font-family: 'Open Sans', sans-serif; color: #414547; text-align: center;"><span style="margin: 0px; padding: 0px; border: 0px; outline: 0px; vertical-align: baseline; background-color: transparent;">New English Brewing Company</span></p>
<p class="font_8" style="margin: 0px; padding: 0px; border: 0px; outline: 0px; vertical-align: baseline; background-color: transparent; font-size: 14px; line-height: normal; font-family: 'Open Sans', sans-serif; color: #414547; text-align: center;"><span style="margin: 0px; padding: 0px; border: 0px; outline: 0px; vertical-align: baseline; background-color: transparent;">URBN St. Brewing Co.</span></p>
<p class="font_8" style="margin: 0px; padding: 0px; border: 0px; outline: 0px; vertical-align: baseline; background-color: transparent; font-size: 14px; line-height: normal; font-family: 'Open Sans', sans-serif; color: #414547; text-align: center;"><span style="margin: 0px; padding: 0px; border: 0px; outline: 0px; vertical-align: baseline; background-color: transparent;">Saint Archer Brewing Company</span></p>
<p class="font_8" style="margin: 0px; padding: 0px; border: 0px; outline: 0px; vertical-align: baseline; background-color: transparent; font-size: 14px; line-height: normal; font-family: 'Open Sans', sans-serif; color: #414547; text-align: center;"><span style="margin: 0px; padding: 0px; border: 0px; outline: 0px; vertical-align: baseline; background-color: transparent;">Fat Cat Beer Company</span></p>
<p class="font_8" style="margin: 0px; padding: 0px; border: 0px; outline: 0px; vertical-align: baseline; background-color: transparent; font-size: 14px; line-height: normal; font-family: 'Open Sans', sans-serif; color: #414547; text-align: center;"><span style="margin: 0px; padding: 0px; border: 0px; outline: 0px; vertical-align: baseline; background-color: transparent;">Golden Coast Mead</span></p>
<p class="font_8" style="margin: 0px; padding: 0px; border: 0px; outline: 0px; vertical-align: baseline; background-color: transparent; font-size: 14px; line-height: normal; font-family: 'Open Sans', sans-serif; color: #414547; text-align: center;"><span style="margin: 0px; padding: 0px; border: 0px; outline: 0px; vertical-align: baseline; background-color: transparent;">La Jolla Brewing Company</span></p>
<p class="font_8" style="margin: 0px; padding: 0px; border: 0px; outline: 0px; vertical-align: baseline; background-color: transparent; font-size: 14px; line-height: normal; font-family: 'Open Sans', sans-serif; color: #414547; text-align: center;"><span style="margin: 0px; padding: 0px; border: 0px; outline: 0px; vertical-align: baseline; background-color: transparent;">Ninkasi Brewing Company</span></p>
<p class="font_8" style="margin: 0px; padding: 0px; border: 0px; outline: 0px; vertical-align: baseline; background-color: transparent; font-size: 14px; line-height: normal; font-family: 'Open Sans', sans-serif; color: #414547; text-align: center;"><span style="margin: 0px; padding: 0px; border: 0px; outline: 0px; vertical-align: baseline; background-color: transparent;">Belching Beaver Brewery</span></p>
<p class="font_8" style="margin: 0px; padding: 0px; border: 0px; outline: 0px; vertical-align: baseline; background-color: transparent; font-size: 14px; line-height: normal; font-family: 'Open Sans', sans-serif; color: #414547; text-align: center;"><span style="margin: 0px; padding: 0px; border: 0px; outline: 0px; vertical-align: baseline; background-color: transparent;">Julian Hard Cider</span></p>
<p class="font_8" style="margin: 0px; padding: 0px; border: 0px; outline: 0px; vertical-align: baseline; background-color: transparent; font-size: 14px; line-height: normal; font-family: 'Open Sans', sans-serif; color: #414547; text-align: center;"><span style="margin: 0px; padding: 0px; border: 0px; outline: 0px; vertical-align: baseline; background-color: transparent;">Ballast Point Brewery</span></p>
<p class="font_8" style="margin: 0px; padding: 0px; border: 0px; outline: 0px; vertical-align: baseline; background-color: transparent; font-size: 14px; line-height: normal; font-family: 'Open Sans', sans-serif; color: #414547; text-align: center;">AleSmith Brewing Company</p>
LOCATION:1111 Marine Street, La Jolla, 92037
END:VEVENT
END:VCALENDAR