BEGIN:VCALENDAR
VERSION:2.0
BEGIN:VEVENT
URL:http://www.signaturewines.com/wine-community/events/viewevent/461-ahp-s-30th-annual-harvest-dinner 
DTSTART:20151030T173000
DTEND:20151030T210000
SUMMARY:AHP's 30th Annual Harvest Dinner
DESCRIPTION:<div style="font-family: Helvetica, Arial, sans-serif; line-height: normal; color: #dd7727; font-weight: bold; padding-top: 5px; padding-bottom: 10px;"><strong>BUY YOUR TICKETS HERE: </strong><span style="color: #333333; font-family: Tahoma, Helvetica, Arial, sans-serif; line-height: 1.3em;">http://www.brownpapertickets.com/event/2027490</span></div>
<div style="font-family: Helvetica, Arial, sans-serif; line-height: normal; color: #dd7727; font-weight: bold; padding-top: 5px; padding-bottom: 10px;">AHP's 30th Annual Harvest Dinner</div>
<p><span style="color: #777777; font-family: Helvetica, Arial, sans-serif; line-height: normal;">Agricultural History Project will be celebrating its 30th Annual Harvest Dinner on Friday, October 30, 2015. Come celebrate this year's theme "30 Years of Memories"!</span><br style="color: #777777; font-family: Helvetica, Arial, sans-serif; line-height: normal;" /><br style="color: #777777; font-family: Helvetica, Arial, sans-serif; line-height: normal;" /><span style="color: #777777; font-family: Helvetica, Arial, sans-serif; line-height: normal;">The event will include a buffet dinner prepared by Monterey Bay Caterers, bluegrass music by Sagebrush, a no-host bar, and live and silent auctions. </span><br style="color: #777777; font-family: Helvetica, Arial, sans-serif; line-height: normal;" /><br style="color: #777777; font-family: Helvetica, Arial, sans-serif; line-height: normal;" /><span style="color: #777777; font-family: Helvetica, Arial, sans-serif; line-height: normal;">The Harvest Dinner is the annual fundraiser for the Agricultural History Project.</span></p>
LOCATION:J.J. Crosetti Building, Santa Cruz County Fairgrounds 2601 East Lake Ave Watsonville, CA 95076
END:VEVENT
END:VCALENDAR