BEGIN:VCALENDAR
VERSION:2.0
BEGIN:VEVENT
URL:http://www.signaturewines.com/wine-community/events/viewevent/462-pinotfest-2015 
DTSTART:20151121T150000
DTEND:20151121T180000
SUMMARY:PinotFest 2015
DESCRIPTION:<p style="margin: 0px 0px 15px; padding: 0px; color: rgba(0, 0, 0, 0.6); font-family: 'Benton Sans', 'Helvetica Neue', Helvetica, Roboto, Arial, sans-serif; font-size: 15px; letter-spacing: 0.5px; line-height: 22px;"><strong>BUY YOUR TICKETS HERE: </strong><span style="color: #333333; font-family: Tahoma, Helvetica, Arial, sans-serif; font-size: 12px; line-height: 1.3em;">https://www.eventbrite.com/e/pinotfest-2015-tickets-18341829907?aff=es2</span></p>
<p style="margin: 0px 0px 15px; padding: 0px; color: rgba(0, 0, 0, 0.6); font-family: 'Benton Sans', 'Helvetica Neue', Helvetica, Roboto, Arial, sans-serif; font-size: 15px; letter-spacing: 0.5px; line-height: 22px;">The extensive tasting of pinot noir from 60 of Oregon and California’s best producers features sumptuous hors d’oeuvres to complement the wines and an opportunity to meet the winemakers.</p>
<p> </p>
<p style="margin: 0px; padding: 0px; color: rgba(0, 0, 0, 0.6); font-family: 'Benton Sans', 'Helvetica Neue', Helvetica, Roboto, Arial, sans-serif; font-size: 15px; letter-spacing: 0.5px; line-height: 22px;">Participating Wineries Include: Alma Rosa, Archery Summit, Au Bon Climat, Bonaccorsi, Byron, Calera, Chehalem, Cobb, Costa de Oro, Domaine Drouhin, Drake, El Molino, en Route, Ernest, Etude, Failla, Fiddlehead, Flowers, Foxen, Freeman, Gloria Ferrer, Greenwood Ridge, Handley, Hartford Family, Hendry, Hitching Post, Joseph Phelps, Keller Estate, Kendric, Kosta Browne, LaRue, Landmark, Littorai, Lutum, Lynmar, Marimar Estate, Melville, Merry Edwards, Morgan, Patz & Hall, Paul Hobbs, Paul Lato, Peay, Radio Coteau, Reuling, Saintsbury, Siduri, Soliste, Soter, Talisman, Talley, Tendril, Testarossa, Thomas Fogarty, Twomey, Wayfarer, Whitcraft, WillaKenzie, Williams Selyem</p>
LOCATION:Farallon - 450 Post Street. 4th Floor. San Francisco, CA 94102 
END:VEVENT
END:VCALENDAR