BEGIN:VCALENDAR
VERSION:2.0
BEGIN:VEVENT
URL:http://www.signaturewines.com/wine-community/events/viewevent/463-6th-annual-wine-screams 
DTSTART:20151023T190000
DTEND:20151023T230000
SUMMARY:6th Annual Wine & Screams
DESCRIPTION:<p style="margin: 0px; font-size: 14px; line-height: normal; font-family: Helvetica;"><strong>BUY YOUR TICKETS HERE: </strong><span style="font-family: Tahoma, Helvetica, Arial, sans-serif; font-size: 12px; line-height: 1.3em;">http://www.eventbrite.com/e/6th-annual-wine-screams-tickets-18352832817?aff=es2</span></p>
<p style="margin: 0px; font-size: 14px; line-height: normal; font-family: Helvetica;"> </p>
<p style="margin: 0px; font-size: 14px; line-height: normal; font-family: Helvetica;">Wine Tasting, Games, Live Music Performed by Neil Buettner & Matt Harrington, Photo Booth, Raffle Prizes, Silent Auction, Delicious Appetizers from various Turlock restaurants. and Chocolate Fondue.</p>
<p style="margin: 0px; font-size: 14px; line-height: normal; font-family: Helvetica; min-height: 17px;"> </p>
<p style="margin: 0px; font-size: 14px; line-height: normal; font-family: Helvetica;">Sponsorships available by e-mailing wineandscreams@yahoo.com.</p>
<p style="margin: 0px; font-size: 14px; line-height: normal; font-family: Helvetica; min-height: 17px;"> </p>
<p style="margin: 0px; font-size: 14px; line-height: normal; font-family: Helvetica;">Tickets available through A.C.T. members, online at <a href="http://wineandscreams2015.eventbrite.com/">http://wineandscreams2015.eventbrite.com/</a> or at Geiger’s Jewelers 340 E. Main St., Turlock </p>
<p style="margin: 0px; font-size: 14px; line-height: normal; font-family: Helvetica; min-height: 17px;"> </p>
<p style="margin: 0px; font-size: 14px; line-height: normal; font-family: Helvetica;">Tickets are $40 per person/$70 per couple.</p>
<p style="margin: 0px; font-size: 14px; line-height: normal; font-family: Helvetica; min-height: 17px;"> </p>
<p style="margin: 0px; font-size: 14px; line-height: normal; font-family: Helvetica;">Proceeds benefit underprivileged children</p>
<p style="margin: 0px; font-size: 14px; line-height: normal; font-family: Helvetica;">in Turlock and help sponsor a child for a</p>
<p style="margin: 0px; font-size: 14px; line-height: normal; font-family: Helvetica;">Christmas Shopping Trip.</p>
<p style="margin: 0px; font-size: 14px; line-height: normal; font-family: Helvetica; min-height: 17px;"> </p>
<p> </p>
<p style="margin: 0px; font-size: 14px; line-height: normal; font-family: Helvetica;">Donations are tax deductible: Tax ID #47-4639531 501C3</p>
LOCATION:War Memorial  247 E Canal Dr  Turlock, CA 95380
END:VEVENT
END:VCALENDAR