BEGIN:VCALENDAR
VERSION:2.0
BEGIN:VEVENT
URL:http://www.signaturewines.com/wine-community/events/viewevent/465-sarah-s-vineyard-summer-concert-series 
DTSTART:20150911T180000
DTEND:20150911T210000
SUMMARY:Sarah's Vineyard Summer Concert Series
DESCRIPTION:<p><span style="color: #444444; font-family: Arial, Helvetica, Verdana, sans-serif; font-size: 16px; line-height: 22px;">Come enjoy live music, wine, and food served up on our lovely picnic grounds. This weeks featured artist is the rock music of Jimio K!</span><br style="color: #444444; font-family: Arial, Helvetica, Verdana, sans-serif; font-size: 16px; line-height: 22px;" /><br style="color: #444444; font-family: Arial, Helvetica, Verdana, sans-serif; font-size: 16px; line-height: 22px;" /><span style="color: #444444; font-family: Arial, Helvetica, Verdana, sans-serif; font-size: 16px; line-height: 22px;">We have local caterers selling food on site, or feel free to bring your own. Our featured caterer is Simply Delicious. They will be making pizzas using our brick pizza oven!</span><br style="color: #444444; font-family: Arial, Helvetica, Verdana, sans-serif; font-size: 16px; line-height: 22px;" /><br style="color: #444444; font-family: Arial, Helvetica, Verdana, sans-serif; font-size: 16px; line-height: 22px;" /><span style="color: #444444; font-family: Arial, Helvetica, Verdana, sans-serif; font-size: 16px; line-height: 22px;">This is an open event to the general public. Open seating will be available, but in case of large crowds wed recommend bringing a chair or two along with you. And nights here at the vineyard tend to get a little chilly so make sure to bring a coat along with you, too.</span><br style="color: #444444; font-family: Arial, Helvetica, Verdana, sans-serif; font-size: 16px; line-height: 22px;" /><br style="color: #444444; font-family: Arial, Helvetica, Verdana, sans-serif; font-size: 16px; line-height: 22px;" /><span style="color: #444444; font-family: Arial, Helvetica, Verdana, sans-serif; font-size: 16px; line-height: 22px;">This event is for people of the age 21 and over only. For the safety of your children and the comfort of our guests, children are not allowed at our evening events. No exceptions.</span><br style="color: #444444; font-family: Arial, Helvetica, Verdana, sans-serif; font-size: 16px; line-height: 22px;" /><br style="color: #444444; font-family: Arial, Helvetica, Verdana, sans-serif; font-size: 16px; line-height: 22px;" /><span style="color: #444444; font-family: Arial, Helvetica, Verdana, sans-serif; font-size: 16px; line-height: 22px;">No outside alcohol permitted. Our full bottle menu is available for purchase.</span><br style="color: #444444; font-family: Arial, Helvetica, Verdana, sans-serif; font-size: 16px; line-height: 22px;" /><br style="color: #444444; font-family: Arial, Helvetica, Verdana, sans-serif; font-size: 16px; line-height: 22px;" /></p>
<p><span style="color: #444444; font-family: Arial, Helvetica, Verdana, sans-serif; font-size: 16px; line-height: 22px;">Disposable cups are provided. Wine glasses available for purchase at $5 each.</span><span style="color: #000000; font-family: Arial, Helvetica, Verdana, sans-serif; font-size: 16px; line-height: 22px;"> </span></p>
<div class="page" title="Page 1">
<div class="layoutArea">
<div class="column">
<p><span style="font-size: 10.000000pt; font-family: 'Goudy'; color: rgb(13.700000%, 12.300000%, 12.600000%);"> </span></p>
</div>
</div>
</div>
LOCATION:4005 Hecker Pass Hwy, Gilroy, CA 95020
END:VEVENT
END:VCALENDAR