BEGIN:VCALENDAR
VERSION:2.0
BEGIN:VEVENT
URL:http://www.signaturewines.com/wine-community/events/viewevent/474-35th-annual-santa-clara-art-wine-festival 
DTSTART:20150919T100000
DTEND:20150920T170000
SUMMARY:35th Annual Santa Clara Art & Wine Festival
DESCRIPTION:<p style="margin: 0px 0px 1em; line-height: 18.251998901367188px; color: #152140; font-family: Arial, sans-serif; font-size: 15px;">The 35th Annual Santa Clara Art & Wine Festival will feature the talents of local and regional artists with over 170 arts and crafts booths to visit, 25 community groups serving delicious food favorites, four vintners pouring fine wines, micro-brewed beer, stellar live entertainment on three stages, the ever-popular Kids Kingdom and the all new Toddler Town!</p>
<p style="margin: 0px 0px 1em; line-height: 18.251998901367188px; color: #152140; font-family: Arial, sans-serif; font-size: 15px;">New this year: Don't miss the "50 Tour Champions of the Bay!" Check out the Lombardi trophies on the ball field as part of the Super Community events leading up to Super Bowl 50.  </p>
LOCATION:Central Park, 909 Kiely Boulevard, Santa Clara, CA 95051
END:VEVENT
END:VCALENDAR