BEGIN:VCALENDAR
VERSION:2.0
BEGIN:VEVENT
URL:http://www.signaturewines.com/wine-community/events/viewevent/478-thumbprint-cellars-2nd-annual-laughing-matters-mo-vember-comedy-fundraising-show 
DTSTART:20151113T180000
DTEND:20151113T220000
SUMMARY:thumbprint cellars' - 2nd Annual Laughing Matters, Mo-Vember Comedy Fundraising Show
DESCRIPTION:<p style="line-height: normal; margin: 0px; padding: 0px 0px 8px; color: #666666; font-family: 'Helvetica Neue', Helvetica, Arial, sans-serif; font-size: 13px; letter-spacing: 0.5px; text-align: center;"><span style="color: #000000; font-size: medium;"><span style="font-weight: bold;"><span style="font-family: arial, sans-serif; line-height: 1.6em;"><em><span style="font-family: 'Helvetica Neue', Helvetica, Arial, sans-serif; line-height: 20.7999992370605px;">Doors Open at 7pm. Show starts at 8pm.</span></em></span></span></span></p>
<p style="line-height: normal; margin: 0px; padding: 0px 0px 8px; color: #666666; font-family: 'Helvetica Neue', Helvetica, Arial, sans-serif; font-size: 13px; letter-spacing: 0.5px; text-align: center;"><span style="color: #0000ff; font-size: medium;"><span style="font-weight: bold;"><span style="font-family: arial, sans-serif; line-height: 1.6em;"><em><span style="font-family: 'Helvetica Neue', Helvetica, Arial, sans-serif; line-height: 20.7999992370605px;">VIP reception begins at 6pm at the thumbprint cellars' tasting room</span></em></span></span></span></p>
<p style="line-height: normal; margin: 0px; padding: 0px 0px 8px; color: #666666; font-family: 'Helvetica Neue', Helvetica, Arial, sans-serif; font-size: 13px; letter-spacing: 0.5px; text-align: center;"><span style="color: #000000;"><span style="font-family: arial, sans-serif; font-size: medium; line-height: 1.6em;"><em>thumbprint cellars </em>and Steve Ausburne of Steve Ausburne Productions<em> </em>present</span><em style="color: #888888; font-family: arial, sans-serif; font-size: medium; line-height: 1.6em;"> <span style="color: #ff6600;"><span style="font-weight: bold;">Laughing Matters.</span></span></em><span style="font-family: arial, sans-serif; font-size: medium; line-height: 1.6em;"><span style="color: #ff6600;"> </span>This fundraising comedy show will feature talented stand-up comedians and proceeds will benefit the Movember Foundation, the leading global charity initiative committed to changing the face of men's health.  </span></span></p>
<p style="line-height: normal; margin: 0px; padding: 0px 0px 8px; color: #666666; font-family: 'Helvetica Neue', Helvetica, Arial, sans-serif; font-size: 13px; letter-spacing: 0.5px; text-align: center;"><span style="color: #000000; font-family: arial, sans-serif; font-size: small; line-height: 1.6em;">During Mo-vember (the month formally known as November) men are challenged to grow mustaches to spark conversation and raise funds for prostate and testicular cancer and mental health concerns. </span></p>
<p style="line-height: normal; margin: 0px; padding: 0px 0px 8px; color: #666666; font-family: 'Helvetica Neue', Helvetica, Arial, sans-serif; font-size: 13px; letter-spacing: 0.5px; text-align: center;"><span style="color: #000000; font-family: arial, sans-serif; font-size: medium; line-height: 1.6em;">The comedic line up is sure to leave a lasting impression!</span></p>
<div style="font-size: 13.3333339691162px; letter-spacing: 0.5px; line-height: 15.84000015258789px; color: #222222; font-family: arial, sans-serif; text-align: left;"><span style="font-size: medium; color: #000000;"><span style="font-weight: bold;">BUY YOUR TICKETS HERE: </span></span><span style="color: #333333; font-family: Tahoma, Helvetica, Arial, sans-serif; font-size: 12px; line-height: 1.3em;">http://www.eventbrite.com/e/thumbprint-cellars-2nd-annual-laughing-matters-mo-vember-comedy-fundraising-show-tickets-14711337005?aff=es2</span></div>
<div style="font-size: 13.3333339691162px; letter-spacing: 0.5px; line-height: 15.84000015258789px; color: #222222; font-family: arial, sans-serif; text-align: left;"> </div>
<div style="font-size: 13.3333339691162px; letter-spacing: 0.5px; line-height: 15.84000015258789px; color: #222222; font-family: arial, sans-serif; text-align: center;"><span style="font-size: medium; color: #000000;"><span style="font-weight: bold;">General Admission tickets $25 - <span style="line-height: 1.6em;">VIP tickets $55*</span></span></span></div>
<p style="line-height: normal; margin: 0px; padding: 0px 0px 8px; color: #666666; font-family: 'Helvetica Neue', Helvetica, Arial, sans-serif; font-size: 13px; letter-spacing: 0.5px; text-align: center;"><span style="color: #3366ff; font-size: medium;"> *<span style="line-height: 1.6em;">VIP tickets include a private wine & cheese reception at</span><em> thumbprint cellars</em><span style="line-height: 1.6em;"> from 6-7pm, </span></span><span style="line-height: 1.6em; color: #3366ff; font-size: medium;">with prime seating and a meet-n-greet with the comedians. </span></p>
LOCATION:Raven Performing Arts Theater  115 North St.  Healdsburg, CA 95448
END:VEVENT
END:VCALENDAR