BEGIN:VCALENDAR
VERSION:2.0
BEGIN:VEVENT
URL:http://www.signaturewines.com/wine-community/events/viewevent/48-quarterly-wine-club-release-party-and-music-in-the-vines 
DTSTART:20111119T120000
DTEND:20111119T163000
SUMMARY:Quarterly Wine Club Release Party and Music in the Vines
DESCRIPTION:<p><strong><em>Quarterly Wine Club Release Party and Music in the Vines </em></strong><br /> November 19th <br /> 12-4:30PM <br /> Join us for our last Quarter Wine Club Release Party!  Grab your friends  and family and come taste our new Releases, enjoy live music, and stay  for lunch, as food is available for purchase. <br /> $10/person (You keep logo glass and get to taste 7 wines)</p>
LOCATION:5600 Greenville Road | Livermore, CA 94550
END:VEVENT
END:VCALENDAR