BEGIN:VCALENDAR
VERSION:2.0
BEGIN:VEVENT
URL:http://www.signaturewines.com/wine-community/events/viewevent/480-outstanding-in-the-doon-xiii-farm-to-table-feast 
DTSTART:20151017T153000
DTEND:20151017T203000
SUMMARY:Outstanding in the Doon XIII – Farm-to-Table Feast
DESCRIPTION:<p><span style="font-family: im_fell_dw_picaregular, sans-serif; font-size: 16px; line-height: 22.5px;">The event (in its thirteenth iteration) will be held for the fourth time at Randall Grahm’s San Juan Bautista Estate Vineyard and Farm, </span><a href="http://www.popelouchum.com/" target="_blank" style="box-sizing: border-box; color: #7e4300; cursor: url('https://www.bonnydoonvineyard.com/wp-content/themes/bdv/images/Alien_24x24px.png'), pointer; font-family: im_fell_dw_picaregular, sans-serif; font-size: 16px; line-height: 22.5px;">Popelouchum</a><span style="font-family: im_fell_dw_picaregular, sans-serif; font-size: 16px; line-height: 22.5px;">. It will be a magical late afternoon and evening affair. Guests will have a guided tour of the Popelouchum Estate, a chance to enter into our first-ever Popelouchum crop circle, as well as partake of library wine bottlings, this year highlighting our large format bottlings. Music for the evening w</span><span class="text_exposed_show" style="box-sizing: border-box; font-family: im_fell_dw_picaregular, sans-serif; font-size: 16px; line-height: 22.5px;">ill be provided by local violinist <a href="http://www.laurelthomsen.com/Laurel_Thomsen/Home.html" target="_blank" style="box-sizing: border-box; color: #7e4300; cursor: url('https://www.bonnydoonvineyard.com/wp-content/themes/bdv/images/Alien_24x24px.png'), pointer;">Laurel Thomsen</a> and her special guest on guitar and mandolin.</span></p>
<p><span class="text_exposed_show" style="box-sizing: border-box; font-family: im_fell_dw_picaregular, sans-serif; font-size: 16px; line-height: 22.5px;">We are excited to welcome back <a href="https://culinaryagents.com/career/timeline/charlie-parker" target="_blank" style="box-sizing: border-box; color: #7e4300; cursor: url('https://www.bonnydoonvineyard.com/wp-content/themes/bdv/images/Alien_24x24px.png'), pointer;">Chef Charlie Parker</a> of <a href="http://www.havenoakland.com/" target="_blank" style="box-sizing: border-box; color: #7e4300; cursor: url('https://www.bonnydoonvineyard.com/wp-content/themes/bdv/images/Alien_24x24px.png'), pointer;">Haven</a>, Oakland. Chef Parker will be offering a superlative farm-to-table feast.</span></p>
<p style="box-sizing: border-box; margin: 0px 0px 1.3em; font-family: im_fell_dw_picaregular, sans-serif; font-size: 16px; line-height: 22.5px;">We are so excited to bring this event back to Popelouchum (the Mutsun language word the Ohlone natives historically used to denote the general vicinity of the site, its secondary meaning “paradise”), representative the fulfillment of a grand dream of a vin de terroir. It is hard to express how utterly magical the place is – you will have to see for yourself the amazing energy of this unique site.</p>
<p> </p>
<p style="box-sizing: border-box; margin: 0px 0px 1.3em; font-family: im_fell_dw_picaregular, sans-serif; font-size: 16px; line-height: 22.5px;">*** We will be outside at Popelouchum, so be sure to dress in <strong style="box-sizing: border-box;">comfortable walking shoes</strong> with good traction and <strong style="box-sizing: border-box;">BRING WARM CLOTHING</strong> (the layered look is always the way to go), sun hats, sunglasses, and sunscreen as well. ***</p>
LOCATION:543 Mission Vineyard Rd, San Juan Bautista, CA 95045
END:VEVENT
END:VCALENDAR