BEGIN:VCALENDAR
VERSION:2.0
BEGIN:VEVENT
URL:http://www.signaturewines.com/wine-community/events/viewevent/481-cooking-for-solutions-make-it-sustainable-party-with-alton-brown 
DTSTART:20151003T180000
DTEND:20151003T220000
SUMMARY:Cooking for Solutions “Make It Sustainable Party” with Alton Brown
DESCRIPTION:<p><strong>BUY YOUR TICKETS HERE: </strong><span style="line-height: 1.3em;">http://www.montereybayaquarium.org/visit/special-events/cooking-for-solutions/make-it-sustainable-weekend#the-party-with-alton-brown</span></p>
<p style="box-sizing: border-box; margin: 0px 0px 1.3em; font-family: im_fell_dw_picaregular, sans-serif; font-size: 16px; line-height: 22.5px;">Join <strong style="box-sizing: border-box;">Alton Brown</strong> for a night of eating, drinking and dancing at the Aquarium! The Food Network personality’s blend of wit, curiosity and solid kitchen science has gained him fans across the nation. An avid scuba diver, Alton is also a vocal supporter of sustainable seafood, making him the perfect host for The Party during National Seafood Month.</p>
<p class="nomarginbottom" style="box-sizing: border-box; margin: 0px 0px 1.3em; font-family: im_fell_dw_picaregular, sans-serif; font-size: 16px; line-height: 22.5px;">The Party with Alton Brown will be more intimate than our Cooking for Solutions Gala, and just as delicious! Throughout the evening, you’ll:</p>
<ul class="nomarginbottom" style="box-sizing: border-box; margin-top: 0px; margin-bottom: 10px; font-family: im_fell_dw_picaregular, sans-serif; font-size: 16px; line-height: 22.5px;">
<li style="box-sizing: border-box;">Meet and greet guest host Alton Brown</li>
<li style="box-sizing: border-box;">Savor ocean-friendly food and drink by more than 50 restaurants, wineries and breweries</li>
<li style="box-sizing: border-box;">Explore the Aquarium’s award-winning exhibits</li>
<li style="box-sizing: border-box;">Dance the night away in the Marine Mammal Gallery</li>
<li style="box-sizing: border-box;">Relax in The Hess Collection Wine Lounge</li>
</ul>
LOCATION:886 Cannery Row Monterey, CA 93940
END:VEVENT
END:VCALENDAR