BEGIN:VCALENDAR
VERSION:2.0
BEGIN:VEVENT
URL:http://www.signaturewines.com/wine-community/events/viewevent/484-90th-anniversary-gala-celebration 
DTSTART:20150912T180000
DTEND:20150912T220000
SUMMARY:90TH ANNIVERSARY GALA CELEBRATION
DESCRIPTION:<p><strong>BUY YOUR TICKETS HERE:</strong><span style="line-height: 1.3em;">http://www.guglielmowinery.com/90th-anniversary-gala-celebration/</span></p>
<p><span style="color: #252525; font-family: Helvetica, Arial, Verdana, sans-serif; line-height: 21px;">This year marks the 90th Anniversary of our founder, Emilio Guglielmo's, purchase of 15 acres of land which has expanded to become Guglielmo Winery.  Join Emilio's grandsons, George, Gene and Gary, in the beautiful Villa Emile Event Center as we celebrate family, friends and great wine.  Enjoy passed appetizers at 6:00pm, followed by a gourmet dinner paired with special wine selections.  Then dance to the "Big Band" sounds of the Joe Lenigan Band.  Join us in a family toast, and sip very special wines, chosen just for this occasion.  Tickets are $125 per person, $115 for our Wine Group Members.  For reservations, please call our Tasting Room, (408) 779-2145.</span></p>
LOCATION:1480 E Main Ave, Morgan Hill, CA 95037
END:VEVENT
END:VCALENDAR