BEGIN:VCALENDAR
VERSION:2.0
BEGIN:VEVENT
URL:http://www.signaturewines.com/wine-community/events/viewevent/485-the-chef-the-winemaker-a-celebration-of-the-bay-area-s-most-acclaimed-women-chefs 
DTSTART:20151112T180000
DTEND:20151112T210000
SUMMARY:The Chef & The Winemaker - A Celebration of the Bay Area’s Most Acclaimed Women Chefs
DESCRIPTION:<p> </p>
<div class="page" title="Page 1">
<div class="layoutArea">
<div class="column">
<p><strong><span style="font-size: 12.000000pt; font-family: 'Garamond,Bold';">BUY YOUR TICKETS HERE: </span></strong><span style="line-height: 1.3em;">https://shop.wentevineyards.com/shop.ams?LEVEL=MID&CAT=EVENTS</span></p>
<p><span style="font-size: 12.000000pt; font-family: 'Garamond,Bold';">Joanne Weir </span></p>
<p><span style="font-size: 12.000000pt; font-family: 'Garamond';">James Beard Award winner, TV Personality, cookbook author, Chef/Partner of Copita Thursday, November 12, 6:00PM </span><span style="font-size: 12.000000pt; font-family: 'Garamond';">– </span><span style="font-size: 12.000000pt; font-family: 'Garamond';">9:00PM </span></p>
<p> </p>
<div class="page" title="Page 1">
<div class="layoutArea">
<div class="column">
<p><span style="font-size: 10.000000pt; font-family: 'Garamond,Bold';">The Restaurant at Wente Vineyards, 5050 Arroyo Road, Livermore<br /> 6pm </span><span style="font-size: 10.000000pt; font-family: 'Garamond,Bold';">– 7pm: Chef & Winemaker Reception with Sparkling Wine and Hors d’oeuvre<br /> </span><span style="font-size: 10.000000pt; font-family: 'Garamond,Bold';">7pm </span><span style="font-size: 10.000000pt; font-family: 'Garamond,Bold';">– </span><span style="font-size: 10.000000pt; font-family: 'Garamond,Bold';">9pm: Four Course Dinner with Wine Pairings<br /> *As a Special Gift each Guest will receive an autographed cookbook by the Chef<br /> or an autographed bottle of wine by the Winemaker.<br /> *Chef Autographed Cookbook- Chef Pirie, Holland & Weir Dinners. Winemaker Autographed Bottle of Wine- Chef Biesty </span></p>
<p><span style="font-size: 10.000000pt; font-family: 'Garamond,Bold';">Dinner<br /> Price per guest per dinner: $129 Club Members/ $139 Public, plus tax. Gratuity included. Purchase all four dinners to receive 10% off series.<br /> Space is very limited. Reservations are required. For information call 925.456.2424 </span></p>
</div>
</div>
</div>
</div>
</div>
</div>
LOCATION:Wente Vineyards, 5050 Arroyo Road, Livermore CA. 94550
END:VEVENT
END:VCALENDAR