BEGIN:VCALENDAR
VERSION:2.0
BEGIN:VEVENT
URL:http://www.signaturewines.com/wine-community/events/viewevent/486-harvest-ball-at-v-sattui-winery 
DTSTART:20150912T180000
DTEND:20150912T210000
SUMMARY:Harvest Ball at V. Sattui Winery
DESCRIPTION:<p><strong><span style="font-family: Arial, Georgia, sans-serif; font-size: 11px; line-height: 14px;">BUY YOUR TICKETS HERE: </span></strong><span style="line-height: 1.3em;">http://www.discovercaliforniawines.com/harvest-ball-at-v-sattui-winery</span></p>
<p><span style="font-family: Arial, Georgia, sans-serif; font-size: 11px; line-height: 14px;">This year we celebrate the fresh cuisine of Liguria, Italy, paired with the finest V. Sattui wines. For dinner entertainment, travel back in time to the 1970’s and 80’s with memorable music performed by Abbacadabra – the ultimate ABBA tribute band. The evening will continue in the Winery, where Big City Revue, the musically diverse Motown/Disco/Retro band of the Bay Area, will present a high-style show of soul-injected dance music. Make it a weekend by engaging in one or more of the events surrounding the Ball, including Friday tour of the Farmer’s Market and Cooking School (SOLD OUT), Saturday morning Vittorio’s vineyard tour with our Winemaker, Brooks Painter. And not to be missed is the annual get-together early Sunday for “morning-after” mimosas and Italian pastries. Evening attire/Black tie.</span></p>
LOCATION:V. Sattui Winery 1111 White Lane , St. Helena, 94574
END:VEVENT
END:VCALENDAR