BEGIN:VCALENDAR
VERSION:2.0
BEGIN:VEVENT
URL:http://www.signaturewines.com/wine-community/events/viewevent/487-meet-the-maker-cabernet-dinner 
DTSTART:20151024T180000
DTEND:20151024T210000
SUMMARY:Meet the Maker Cabernet Dinner
DESCRIPTION:<p style="margin: 0px; text-align: center; font-size: 11px; line-height: normal; font-family: Verdana; color: #323333;"> This elegant, four course dinner in collaboration with Silverado Resort Executive Chef Jeffrey Jake, will feature a retrospective tasting of the <span style="font-size: 12px; font-family: 'Trebuchet MS';"><em>Brenda’s Vineyard</em></span> Cabernet Sauvignon as well as pairings with the newly released 2012 <span style="font-size: 12px; font-family: 'Trebuchet MS';"><em>Ruppert</em></span> and <span style="font-size: 12px; font-family: 'Trebuchet MS';"><em>Black Label</em></span> Cabernet Sauvignon. Seating is limited to 32.</p>
<p style="margin: 0px; text-align: center; line-height: normal; font-family: 'Trebuchet MS'; min-height: 14px;"> </p>
<p style="margin: 0px; text-align: center; line-height: normal; font-family: 'Trebuchet MS'; min-height: 14px;"> </p>
<p style="margin: 0px; text-align: center; line-height: normal; font-family: Arial; color: #323333;">For those 21 years of age and older.</p>
<p style="margin: 0px; text-align: center; line-height: normal; font-family: 'Trebuchet MS'; color: #323333;"><strong>Saturday Oct 24th 6:00pm -9:00pm</strong></p>
<p style="margin: 0px; line-height: normal; font-family: 'Trebuchet MS'; color: #323333;">$180 per person, Club Members | $225 per person, non-members</p>
<p style="margin: 0px; line-height: normal; font-family: 'Trebuchet MS'; color: #323333;">For more information and to <strong>RSVP</strong> please contact Elizabeth Burchard at <strong>707-944-9261</strong> or email at <a href="mailto:eburchard@baldaccivineyards.com?subject=2012%20Cab%20Dinner">eburchard@baldaccivineyards.com</a></p>
<p> </p>
LOCATION:6236 Silverado Trail, Napa, CA 94558
END:VEVENT
END:VCALENDAR