BEGIN:VCALENDAR
VERSION:2.0
BEGIN:VEVENT
URL:http://www.signaturewines.com/wine-community/events/viewevent/488-stars-of-cabernet-2015 
DTSTART:20151118T190000
DTEND:20151118T213000
SUMMARY:STARS of Cabernet 2015
DESCRIPTION:<p style="line-height: normal; margin: 0px; padding: 0px 0px 8px; color: #5e0069; font-family: Arial, Verdana, sans-serif; font-size: 16px; letter-spacing: 0.5px; text-align: left;"><strong><span style="font-family: 'book antiqua', palatino; font-size: medium; color: #000000;">BUY YOUR TICKETS HERE: </span></strong></p>
<p style="line-height: normal; margin: 0px; padding: 0px 0px 8px; color: #5e0069; font-family: Arial, Verdana, sans-serif; font-size: 16px; letter-spacing: 0.5px; text-align: center;"><span style="font-family: 'book antiqua', palatino; font-size: medium; color: #000000;">Stars of Cabernet is the premier tasting of the year celebrating Cabernet Sauvignon. Featuring over 40 of the best Cabernet producing wineries in California & Washington. <br /></span></p>
<p style="line-height: normal; margin: 0px; padding: 0px 0px 8px; color: #5e0069; font-family: Arial, Verdana, sans-serif; font-size: 16px; letter-spacing: 0.5px; text-align: center;"><span style="font-family: 'book antiqua', palatino; font-size: medium; color: #000000;">This year features a light dinner buffet, with a significantly larger selection over years past, all tastefully prepared by The Peninsula Beverly Hills.   </span></p>
<p style="line-height: normal; margin: 0px; padding: 0px 0px 8px; color: #5e0069; font-family: Arial, Verdana, sans-serif; font-size: 16px; letter-spacing: 0.5px; text-align: center;"><span style="font-family: 'book antiqua', palatino; font-size: medium; color: #000000;">As always, you are welcome to taste as many wines as you like with unlimited tasting.</span></p>
<p style="line-height: normal; margin: 0px; padding: 0px 0px 8px; color: #5e0069; font-family: Arial, Verdana, sans-serif; font-size: 16px; letter-spacing: 0.5px; text-align: center;"><span style="font-family: 'book antiqua', palatino; font-size: medium; color: #000000;">Responsible Tasting Encouraged</span></p>
LOCATION:The Peninsula Beverly Hills  9882 S Santa Monica Blvd  Beverly Hills, CA 90212
END:VEVENT
END:VCALENDAR