BEGIN:VCALENDAR
VERSION:2.0
BEGIN:VEVENT
URL:http://www.signaturewines.com/wine-community/events/viewevent/489-ventura-winter-wine-walk 
DTSTART:20151205T160000
DTEND:20151205T191500
SUMMARY:Ventura Winter Wine Walk!
DESCRIPTION:<p><strong>BUY YOUR TICKETS HERE: </strong><span style="line-height: 1.3em;">http://www.eventbrite.com/e/ventura-winter-wine-walk-saturday-dec-5th-4pm-715pm-tickets-17291688907?aff=es2</span></p>
<table id="ticket_table" class="ticket_table" style="border-collapse: collapse; border-spacing: 0px; width: 601px; color: #666666; font-family: 'Helvetica Neue', Helvetica, Arial, sans-serif; font-size: 13px; letter-spacing: 0.5px; line-height: 20.799999237060547px;" width="100%" border="0" cellspacing="0" cellpadding="0">
<tbody>
<tr class="ticket_row" style="border-color: #dedede;">
<td class="ticket_type_name" style="padding: 12px 5px; vertical-align: top; border-top-width: 1px; border-top-style: solid; border-top-color: #dedede; font-weight: bold;">
<div id="descriptionDiv36609627" style="font-weight: 400; font-size: 11px; line-height: 12px; margin: 5px 0px 0px;">The BEST way to enjoy Ventura Winter Wine Walk, all VIP Guests will check in and start at the VIP Lounge located at the Mini Park On Main Street . Santa's VIP Lounge is a limited and exclusive area for VIP guests with Wine, Champagne, Sparkling Wine, Craft Beer, Food and Desert Tastings along with live entertainment! VIP Guests are also able to enter any of the 60 General Admission tasting locations throughout Downtown Ventura while enjoying the Winter ambiance and live entertainment. Each guest will receive a map of the participating tasting sites in Downtown Ventura. The Tasting portion will take place from 4:00pm-7:15pm. Each tasting/sample is 1-2 ounces, with a maximum of (2) samples at each location. All Sales are final and there are no Refunds this is a rain or shine event. You Must Be at least 21 years of age or older to participate in the Wine Walk. Proceeds from the event benefit the Downtown Ventura Organization to to foster a vibrant commercial and cultural district. </div>
</td>
<td style="padding: 12px 5px; vertical-align: top; border-top-width: 1px; border-top-style: solid; border-top-color: #dedede;" nowrap="nowrap"> </td>
</tr>
</tbody>
</table>
LOCATION:Downtown Ventura   Ventura, CA 93001
END:VEVENT
END:VCALENDAR