BEGIN:VCALENDAR
VERSION:2.0
BEGIN:VEVENT
URL:http://www.signaturewines.com/wine-community/events/viewevent/49-saratoga-by-candlelight-holiday-wine-stroll-in-the-village-2011 
DTSTART:20111125T160000
DTEND:20111125T190000
SUMMARY:Saratoga by Candlelight  Holiday Wine Stroll in the Village 2011
DESCRIPTION:<p>Once again, Saratoga's traditional Village Open House, held on the  day after Thanksgiving, will include a Holiday Wine Stroll for your  enjoyment. "Saratoga By Candlelight: A Holiday Wine Stroll In The  Village," will be held on Friday, November 25, from 4 PM til 7PM.</p>
<p>The Village will be festively decked out, with holiday decorations  at every turn, and will feature strolling carolers, carriage rides,  musicians, artists, and local wineries staged at local retailers &  restaurants.</p>
<p>This year brings a charitable component as well: as a fundraiser  for 2nd Harvest Food Bank, we will be asking attendees to donate  non-perishable food. Donate  in return for a $5 raffle ticket.  Additional tickets may be purchased at $5 each, or 5 for $20.</p>
<p>Raise a glass to the holidays!</p>
<p>Taste premium local wines from the following wineries:<br /> <br /></p>
<table border="0" cellspacing="0" cellpadding="3" align="center">
<tbody>
<tr>
<td valign="top">Burrell School</td>
<td valign="top">Cooper-Garrod</td>
</tr>
<tr>
<td valign="top">Roudon-Smith</td>
<td valign="top">Michael Martella</td>
</tr>
<tr>
<td valign="top">MJA Vineyards</td>
<td valign="top">Guglielmo Winery</td>
</tr>
<tr>
<td valign="top">House Family Winery</td>
<td valign="top">Thomas Fogarty</td>
</tr>
<tr>
<td valign="top">Poetic Cellars</td>
<td valign="top">Loma Prieta</td>
</tr>
<tr>
<td valign="top">SKOV</td>
<td valign="top">Big Basin Vineyards</td>
</tr>
<tr>
<td valign="top">Cinnabar</td>
<td valign="top">Dancing Creek</td>
</tr>
<tr>
<td valign="top">Jazz Cellars</td>
<td valign="top">Villa Del Monte</td>
</tr>
<tr>
<td valign="top"></td>
<td valign="top">(more to come!)</td>
</tr>
</tbody>
</table>
<p>At $40, the Holiday Wine Stroll is a great value, and includes a  festive logo'd glass, caroler's candle, and a program listing special  offers from local merchants. This is a delightfully convenient way to  sample a wide variety of high-quality, local labels, while getting a  head start on your holiday shopping! Many of Saratoga's boutiques and  restaurants will be open late, most will offer special incentives for  Holiday Wine Strollers and all will glow with candlelight in celebration  of this season of giving.</p>
<p>Call early to ensure you'll be part of the season's most elegant  evening of wine tasting, carriage rides, sparkling lights and festive  dining: all in beautiful downtown Saratoga Village!</p>
<p>To Register for the Wine Stroll<br /> <strong>Wine Tasting</strong><br /> Friday, Nov. 25; 4 – 7 PM<br /> $40 until Nov. 23; $45 Nov. 24 & day of event</p>
<p>Call the Chamber to register and pay for the Holiday Wine Stroll - 408.867.0753 or<strong> pay online</strong> at the following url:</p>
<p>http://www.saratogachamber.org/wine_stroll_2011.htm</p>
<p><a id="purchase" name="purchase"></a>Reserve your tickets today:</p>
LOCATION:Downtown Saratoga Village
END:VEVENT
END:VCALENDAR