BEGIN:VCALENDAR
VERSION:2.0
BEGIN:VEVENT
URL:http://www.signaturewines.com/wine-community/events/viewevent/490-wine-walk-shop 
DTSTART:20151003T120000
DTEND:20151003T160000
SUMMARY: Wine, Walk & Shop
DESCRIPTION:<p><strong>BUY YOUR TICKETS HERE: </strong><span style="line-height: 1.3em;">http://www.eventbrite.com/e/wine-walk-shop-tickets-17144827641?aff=es2</span></p>
<p style="line-height: 24px; margin: 0px 0px 24px; padding: 0px 0px 8px; font-family: proxima-nova; font-size: 15px; letter-spacing: 1px; color: #616161;">This annual favorite brings nearly 1,000 locals and tourists to historic downtown Truckee to sip wine, taste scrumptious food samples and enjoy shopping. Each year we keep getting better and better! Mark your calendars for Saturday, October 3, 2015, from noon to 4 p.m.</p>
<p style="line-height: 24px; margin: 24px 0px; padding: 0px 0px 8px; font-family: proxima-nova; font-size: 15px; letter-spacing: 1px; color: #616161;">Every year we partner with a local non-profit organization. Over the past 11 years we have donated more than $25,000 to local non-profits. Some of our past partners include, Tahoe Safe Alliance, Girls on the Run, The Humane Society of Truckee-Tahoe and Sierra Senior Services. </p>
<p style="line-height: 24px; margin: 24px 0px 0px; padding: 0px 0px 8px; font-family: proxima-nova; font-size: 15px; letter-spacing: 1px; color: #616161;">Join us for this iconic fall Truckee event! Attendees will receive a commemorative wine glass to sample wine at 30+ venues, five food tickets and a program with a map to all participating venues. Get ready to wine, walk and shop!</p>
LOCATION:Historic Downtown Truckee  10065 Donner Pass Road  Truckee, CA 96161
END:VEVENT
END:VCALENDAR