BEGIN:VCALENDAR
VERSION:2.0
BEGIN:VEVENT
URL:http://www.signaturewines.com/wine-community/events/viewevent/491-old-town-clovis-fall-wine-walk 
DTSTART:20151003T170000
DTEND:20151003T203000
SUMMARY:Old Town Clovis Fall Wine Walk
DESCRIPTION:<p><strong>BUY YOUR TICKETS HERE: </strong><span style="line-height: 1.3em;">http://www.eventbrite.com/e/old-town-clovis-fall-wine-walk-tickets-18320013654?aff=es2</span></p>
<p style="line-height: 26.6666679382324px; margin: 0px 0px 1.5em; padding: 0px; color: #404040; letter-spacing: 0.5px; box-sizing: border-box; border: 0px; font-family: 'Open Sans', sans-serif; font-size: 16px; outline: 0px; vertical-align: baseline;">Stroll the streets of Old Town Clovis and enjoy wine and food tastings from a variety of wineries and local restaurants. Tickets go on sale about a month in advance and each ticket provides you with one event wine glass and a punch card. The punch card contains all event information with a map of the winery’s locations. Each time you enjoy a tasting, your punch card is hole punched.</p>
<p style="line-height: 26.6666679382324px; margin: 0px 0px 1.5em; padding: 0px; color: #404040; letter-spacing: 0.5px; box-sizing: border-box; border: 0px; font-family: 'Open Sans', sans-serif; font-size: 16px; outline: 0px; vertical-align: baseline;">The participating wineries are located throughout Old Town Clovis inside participating merchant locations. Shop, sip and taste your way through Old Town Clovis and then purchase the wines you love in our Wine Shop, located at the corner of 5th and Pollasky. The wine shop sells bottles and cases of wines from the participating wineries.</p>
<p style="line-height: 26.6666679382324px; margin: 0px 0px 1.5em; padding: 0px; color: #404040; letter-spacing: 0.5px; box-sizing: border-box; border: 0px; font-family: 'Open Sans', sans-serif; font-size: 16px; outline: 0px; vertical-align: baseline;">Participating wineries include: Pear Valley Estate Wine, Summerwood Winery, Grizzly Republic, 3 Oaks Vineyards, Simonian Farms and many, many more!</p>
<p style="line-height: 26.6666679382324px; margin: 0px 0px 1.5em; padding: 0px; color: #404040; letter-spacing: 0.5px; box-sizing: border-box; border: 0px; font-family: 'Open Sans', sans-serif; font-size: 16px; outline: 0px; vertical-align: baseline;">This is a 21 and over event. Non-Refundable. Rain or Shine!</p>
LOCATION:Old Town Clovis  Pollasky Ave  Clovis, CA 93612
END:VEVENT
END:VCALENDAR