BEGIN:VCALENDAR
VERSION:2.0
BEGIN:VEVENT
URL:http://www.signaturewines.com/wine-community/events/viewevent/492-contra-costa-winegrowers-harvest-dinner-2015 
DTSTART:20151024T173000
DTEND:20151024T220000
SUMMARY: Contra Costa Winegrowers Harvest Dinner 2015
DESCRIPTION:<p><strong>BUY YOUR TICKETS HERE: </strong><span style="line-height: 1.3em;">http://www.eventbrite.com/e/contra-costa-winegrowers-harvest-dinner-2015-tickets-18457691452?aff=es2</span></p>
<div class="panel_section" style="padding: 13px 14px; border-width: 1px 1px 0px; border-top-style: solid; border-right-style: solid; border-left-style: solid; border-color: #d6ccad; background-color: #f2ead3; color: #a84a4a; font-family: 'Helvetica Neue', Helvetica, Arial, sans-serif; font-size: 13px; letter-spacing: 0.5px; line-height: 15.84000015258789px;">
<p style="line-height: 19.2pt; margin: 0px; padding: 0px 0px 8px;"><span style="font-size: 10pt; font-family: 'Droid Sans', serif; color: #000000;">We’ve spent the last few weeks picking<span style="font-size: small;">, carrying, destemming, crushing, fermenting…making the latest fantastic vintage of Contra Costa wines! We are eager to take a break to celebrate with you, enjoy wine from local winegrowers professionally paired alongside the delicious culinary creations from Chef Becky Courshene of Frog Hollow Farms, liv</span>e music from the talented Steve Hanson, , and wine talk given from our expert winegrowers. </span></p>
<p style="line-height: 19.2pt; margin: 0px; padding: 0px 0px 8px;"><span style="font-size: 10pt; font-family: 'Droid Sans', serif; color: #000000;">We will start you off with a palate cleansing glass of Sparkling Wine as you enjoy the gorgeous view of the orchards and Mt. Diablo until the chef calls us to dinner! You will be enjoying locally grown five course feast each paired with wines hand selected to compliment the chef’s hand and nature's best while enjoying live music!!!</span></p>
<p style="line-height: 19.2pt; margin: 0px; padding: 0px 0px 8px;"><span style="font-size: small; font-family: Helvetica, sans-serif; color: #000000;">Course 1</span></p>
<p style="line-height: 19.2pt; margin: 0px; padding: 0px 0px 8px;"><span style="font-size: small; font-family: Helvetica, sans-serif; color: #000000;">Pumpkin soup with crème fraiche and toasted pumpkin seeds</span></p>
<p style="line-height: 19.2pt; margin: 0px; padding: 0px 0px 8px;"><span style="font-size: small; font-family: Helvetica, sans-serif; color: #000000;">Course 2</span></p>
<p style="line-height: 19.2pt; margin: 0px; padding: 0px 0px 8px;"><span style="font-size: small; font-family: Helvetica, sans-serif; color: #000000;">Arugula with shallot vinaigrette, Warren pears, gorgonzola dolce cheese and candied walnuts</span></p>
<p style="line-height: 19.2pt; margin: 0px; padding: 0px 0px 8px;"><span style="font-size: small; font-family: Helvetica, sans-serif; color: #000000;">Course 3</span></p>
<p style="line-height: 19.2pt; margin: 0px; padding: 0px 0px 8px;"><span style="font-size: small; font-family: Helvetica, sans-serif; color: #000000;">Chicken Breasts stuffed with portabella mushrooms, caramelized Cipollini onions with pomegranate reduction</span></p>
<p style="line-height: 19.2pt; margin: 0px; padding: 0px 0px 8px;"><span style="font-size: small; font-family: Helvetica, sans-serif; color: #000000;">Course 4 </span></p>
<p style="line-height: 19.2pt; margin: 0px; padding: 0px 0px 8px;"><span style="font-size: small; font-family: Helvetica, sans-serif; color: #000000;">Roasted Pork Loin with a warm quince compote</span></p>
<p style="line-height: 19.2pt; margin: 0px; padding: 0px 0px 8px;"><span style="font-size: small; font-family: Helvetica, sans-serif; color: #000000;">Course 5</span></p>
<p style="line-height: 19.2pt; margin: 0px; padding: 0px 0px 8px;"><span style="font-size: small; font-family: Helvetica, sans-serif; color: #000000;">Chocolate hazelnut torte with crème Chantilly</span></p>
<p style="line-height: 19.2pt; margin: 0px; padding: 0px 0px 8px;"><span style="font-size: small; font-family: Helvetica, sans-serif; color: #000000;"> </span></p>
<p style="line-height: 19.2pt; margin: 0px; padding: 0px 0px 8px;"><span style="color: #000000;">We have changes up the feel of this event to really reflect the Harvest time!!! Think flowers from our local area, bales of hay, denim, pumpkins and great friends, food and wine!!! Sound like the perfect night?? We know you'll not want to miss this annual feast and celebrate the harvest season with us!! Please get your reservation early for this beautiful ensemble of wine and food!!!</span></p>
<p style="line-height: 19.2pt; margin: 0px; padding: 0px 0px 8px;"><span style="color: #000000; font-size: small;">Cheers, </span></p>
<p style="line-height: 19.2pt; margin: 0px; padding: 0px 0px 8px;"><span style="color: #000000; font-size: small;">The Contra Costa Winegrowers Association</span></p>
<p><span style="color: #000000; font-size: small;"> </span></p>
</div>
LOCATION:Frog Hollow Farm  11435 Brentwood Boulevard  Brentwood, CA 94513
END:VEVENT
END:VCALENDAR