BEGIN:VCALENDAR
VERSION:2.0
BEGIN:VEVENT
URL:http://www.signaturewines.com/wine-community/events/viewevent/494-uss-hornet-museum-monsters-bash-the-ultimate-halloween-party 
DTSTART:20151031T193000
DTEND:20151031T234500
SUMMARY: USS Hornet Museum Monsters Bash- The Ultimate Halloween Party
DESCRIPTION:<p><strong>BUY YOUR TICKETS HERE: </strong><span style="line-height: 1.3em;">http://www.eventbrite.com/e/uss-hornet-museum-monsters-bash-the-ultimate-halloween-party-tickets-18168429261?aff=es2</span></p>
<p style="line-height: normal; margin: 0in 0in 10pt; padding: 0px 0px 8px; color: #0a0101; font-family: 'Helvetica Neue', Helvetica, Arial, sans-serif; font-size: 13px; letter-spacing: 0.5px; text-align: center;" align="center"><span style="font-weight: bold;"><em><span style="font-family: Arial, sans-serif; font-size: 16pt;">Live Music by</span></em></span><span style="font-weight: bold;"><em><span style="font-family: Arial, sans-serif; font-size: 12pt;"> <br /></span></em></span><span style="font-weight: bold;"><em><span style="font-family: Arial, sans-serif; font-size: 21pt;">The Cocktail Monkeys <br /></span></em></span><em><span style="font-family: Arial, sans-serif; font-size: 14pt;">(</span></em><em><span style="font-family: Arial, sans-serif; font-size: 14pt;">70’s, 80’s, 90’s Dance Music)</span></em><span style="font-weight: bold;"><em><span style="font-family: Arial, sans-serif; font-size: 16.5pt;"><br /><br /></span></em></span><span style="font-family: Arial, sans-serif; font-size: 13.5pt;">$500 cash prize <br />to the winner of the Costume Contest</span></p>
<p style="line-height: normal; margin: 0in 0in 10pt; padding: 0px 0px 8px; color: #0a0101; font-family: 'Helvetica Neue', Helvetica, Arial, sans-serif; font-size: 13px; letter-spacing: 0.5px; text-align: center;" align="center"> <span style="font-family: Arial, sans-serif;"><span style="font-size: medium;">Children’s Zone with Magician and Children’s Costume Contest!</span></span></p>
<p style="line-height: normal; margin: 0in 0in 10pt; padding: 0px 0px 8px; color: #0a0101; font-family: 'Helvetica Neue', Helvetica, Arial, sans-serif; font-size: 13px; letter-spacing: 0.5px; text-align: center;" align="center"> <span style="font-family: Arial, sans-serif; font-size: 13.5pt;">+ tickets to our new feature:</span></p>
<p style="line-height: normal; margin: 0in 0in 10pt; padding: 0px 0px 8px; color: #0a0101; font-family: 'Helvetica Neue', Helvetica, Arial, sans-serif; font-size: 13px; letter-spacing: 0.5px; text-align: center;" align="center"> <span style="font-family: Arial, sans-serif;"><span style="font-size: medium;">The Haunted Hornet: ScareCo Inc’s professional ghoulish attractions about the Ship. </span></span></p>
<p style="line-height: normal; margin: 0in 0in 10pt; padding: 0px 0px 8px; color: #0a0101; font-family: 'Helvetica Neue', Helvetica, Arial, sans-serif; font-size: 13px; letter-spacing: 0.5px; text-align: center;" align="center"> <span style="font-family: Arial, sans-serif;"><a href="http://www.scarecopro.com/" rel="nofollow" style="color: #031fa8;"><span style="color: #0000ff; font-size: medium;">www.scarecopro.com</span></a></span></p>
<p style="line-height: normal; margin: 0in 0in 10pt; padding: 0px 0px 8px; color: #0a0101; font-family: 'Helvetica Neue', Helvetica, Arial, sans-serif; font-size: 13px; letter-spacing: 0.5px; text-align: center;" align="center"> <span style="font-family: Arial, sans-serif; font-size: 13pt;">Full Cash Bar and Food Concessions available</span></p>
<p style="line-height: normal; margin: 0in 0in 10pt; padding: 0px 0px 8px; color: #0a0101; font-family: 'Helvetica Neue', Helvetica, Arial, sans-serif; font-size: 13px; letter-spacing: 0.5px; text-align: center;" align="center"> <span style="line-height: 21.466665267944336px; font-family: Arial, sans-serif; font-size: 14pt;">(Please note, that the USS Hornet Museum does not have an ATM Machine)</span></p>
<p style="line-height: normal; margin: 0in 0in 10pt; padding: 0px 0px 8px; color: #0a0101; font-family: 'Helvetica Neue', Helvetica, Arial, sans-serif; font-size: 13px; letter-spacing: 0.5px; text-align: center;" align="center"> <em><span style="line-height: 21.466665267944336px; font-family: Arial, sans-serif; font-size: 14pt;"><span style="font-size: 12pt;"><span style="font-weight: bold;">This is a fundraiser for the USS Hornet Museum; refunds cannot be honored.</span></span></span></em></p>
<p style="line-height: normal; margin: 0in 0in 10pt; padding: 0px 0px 8px; color: #0a0101; font-family: 'Helvetica Neue', Helvetica, Arial, sans-serif; font-size: 13px; letter-spacing: 0.5px; text-align: center;" align="center"> <span style="font-weight: bold;"><span style="font-family: Arial, sans-serif;"><span style="font-size: medium;">ADVANCED TICKETS</span></span></span></p>
<p style="line-height: normal; margin: 0in 0in 10pt; padding: 0px 0px 8px; color: #0a0101; font-family: 'Helvetica Neue', Helvetica, Arial, sans-serif; font-size: 13px; letter-spacing: 0.5px; text-align: center;" align="center"> </p>
<p style="line-height: normal; margin: 0in 0in 10pt; padding: 0px 0px 8px; color: #0a0101; font-family: 'Helvetica Neue', Helvetica, Arial, sans-serif; font-size: 13px; letter-spacing: 0.5px;"><span style="font-size: medium;"><span style="text-decoration: underline;"><span style="font-family: Arial, sans-serif;">VIP Halloween Admission</span></span><span style="font-family: Arial, sans-serif;">: $60.00 adults- includes Monster Bash Dance Party admission and both Haunted Hornet attractions, Members $55.00, Children $40.00 (recommended over age 10 to participate in the Haunted Hornet).</span></span></p>
<p style="line-height: normal; margin: 0in 0in 10pt; padding: 0px 0px 8px; color: #0a0101; font-family: 'Helvetica Neue', Helvetica, Arial, sans-serif; font-size: 13px; letter-spacing: 0.5px; text-align: center;" align="center"> </p>
LOCATION:USS Hornet Museum  707 West Hornet Avenue  Alameda, CA 94501
END:VEVENT
END:VCALENDAR