BEGIN:VCALENDAR
VERSION:2.0
BEGIN:VEVENT
URL:http://www.signaturewines.com/wine-community/events/viewevent/495-california-association-of-winegrape-growers-wine-reception-dinner 
DTSTART:20151111T180000
DTEND:20151111T210000
SUMMARY:CALIFORNIA ASSOCIATION OF WINEGRAPE GROWERS WINE RECEPTION & DINNER
DESCRIPTION:<p><strong>BUY YOUR TICKETS HERE: </strong><span style="line-height: 1.3em;">http://www.eventbrite.com/e/cawg-wine-reception-dinner-tickets-18099330585?aff=es2</span></p>
<p style="line-height: normal; margin: 0in 0in 0.0001pt; padding: 0px 0px 8px; color: #666666; font-family: 'Helvetica Neue', Helvetica, Arial, sans-serif; font-size: 13px; letter-spacing: 0.5px;"><span style="font-family: 'Helvetica Neue';">Please join the CAWG Board of Directors for an evening of wine, food and friends as we celebrate the last two years of outstanding leadership and contributions of outgoing CAWG Chair Heidi Scheid. We look forward to seeing you there!</span></p>
<p style="line-height: normal; margin: 0in 0in 0.0001pt; padding: 0px 0px 8px; color: #666666; font-family: 'Helvetica Neue', Helvetica, Arial, sans-serif; font-size: 13px; letter-spacing: 0.5px;"> </p>
<p style="line-height: normal; margin: 0px; padding: 0px 0px 8px; color: #666666; font-family: 'Helvetica Neue', Helvetica, Arial, sans-serif; font-size: 13px; letter-spacing: 0.5px;"><span style="font-weight: bold;"><em>Event Attire: Business Casual </em></span></p>
<p style="line-height: normal; margin: 0in 0in 0.0001pt; padding: 0px 0px 8px; color: #666666; font-family: 'Helvetica Neue', Helvetica, Arial, sans-serif; font-size: 13px; letter-spacing: 0.5px;"><span style="font-family: 'Helvetica Neue';">For questions, please contact the CAWG office via phone: 916-379-8995 or via email: info@cawg.org. </span></p>
LOCATION:Monterey Plaza Hotel & Spa  400 Cannery Row  Monterey, CA 93940
END:VEVENT
END:VCALENDAR