BEGIN:VCALENDAR
VERSION:2.0
BEGIN:VEVENT
URL:http://www.signaturewines.com/wine-community/events/viewevent/498-lafayette-art-wine-music-festival-2015 
DTSTART:20150919T100000
DTEND:20150920T180000
SUMMARY:Lafayette Art, Wine & Music Festival 2015
DESCRIPTION:<p style="line-height: 19.2pt; margin: 0px 0px 14pt; padding: 0px 0px 8px; color: #666666; font-family: 'Helvetica Neue', Helvetica, Arial, sans-serif; font-size: 13px; letter-spacing: 0.5px; text-align: center;" align="center"><span style="font-size: large;"><a href="http://www.lafayettefestival.com/" rel="nofollow" style="color: #0f90ba;"><span style="font-weight: bold;"><span style="font-family: Arial;">www.lafayettefestival.com</span></span></a></span></p>
<p style="line-height: normal; margin: 0px; padding: 0px 0px 8px; color: #666666; font-family: 'Helvetica Neue', Helvetica, Arial, sans-serif; font-size: 13px; letter-spacing: 0.5px; text-align: center;"><span style="font-size: large;">4 Stages, 20 live bands, 260+ Artists. KidZone. Free Admission.</span></p>
<p style="line-height: normal; margin: 0px; padding: 0px 0px 8px; color: #666666; font-family: 'Helvetica Neue', Helvetica, Arial, sans-serif; font-size: 13px; letter-spacing: 0.5px; text-align: center;"><span style="font-size: large;">1 block from BART</span></p>
<p style="line-height: normal; margin: 0px; padding: 0px 0px 8px; color: #666666; font-family: 'Helvetica Neue', Helvetica, Arial, sans-serif; font-size: 13px; letter-spacing: 0.5px; text-align: center;"> </p>
<p style="line-height: normal; margin: 0px; padding: 0px 0px 8px; color: #666666; font-family: 'Helvetica Neue', Helvetica, Arial, sans-serif; font-size: 13px; letter-spacing: 0.5px;"><span style="font-size: large;">Don't miss this 20th annual “Best Festival of the East Bay” held in beautiful downtown Lafayette. It’s big time fun with a small town feel. </span></p>
<p style="line-height: normal; margin: 0px; padding: 0px 0px 8px; color: #666666; font-family: 'Helvetica Neue', Helvetica, Arial, sans-serif; font-size: 13px; letter-spacing: 0.5px;"><span style="font-size: large;">Free admission to hear the Bay Area’s best cover bands, including Foreverland, Sun Kings, Evolution, Aja Vu, Spazmatics, East Bay Mudd, and Zebop! This family friendly event has a KidZone, too!</span></p>
<p style="line-height: normal; margin: 0px; padding: 0px 0px 8px; color: #666666; font-family: 'Helvetica Neue', Helvetica, Arial, sans-serif; font-size: 13px; letter-spacing: 0.5px;"><span style="font-size: large;">Easy access – Close to BART, bike trails & Hwy 24. Free bike valet and parking.</span></p>
LOCATION:Downtown Lafayette, California  3535 Mt. Diablo Blvd  Lafayette, California 94549
END:VEVENT
END:VCALENDAR