BEGIN:VCALENDAR
VERSION:2.0
BEGIN:VEVENT
URL:http://www.signaturewines.com/wine-community/events/viewevent/50-vin12-presents-the-holiday-champagne-sparkling-red-wine-event 
DTSTART:20111118T173000
DTEND:20111118T210000
SUMMARY:VIN12 PRESENTS: The Holiday Champagne, Sparkling & Red Wine Event!
DESCRIPTION:<p class="style30" align="center">VIN12, California's most popular  monthly wine event, invites you to The The Big Red Event! Two years, 42  events, San Francisco, San Jose, Palo Alto, Sacramento, 600+ winery  appearances and over 10,500 attendees...</p>
<p class="style30" align="center">VIN12 is excited to present The Holiday Champagne, Sparkling & Red Wine Event at Manor West<br /> 18+ Wine Producers, 60+ wines to taste plus...<br /> <br /> Enjoy Wines from Sonoma, Napa, Central Coast, Central  Valley, pouring over 50 wines and over 10 other unique varietals such  Cabernet Franc, Chardonnay, Barbera, Pinot Grigio, Sauvignon Blanc,  Rhone & Bordeaux style, Syrah, Merlot, Rose and the great sparkling  wines from Gloria Ferrer!</p>
<p class="style30" align="center">Featured wineries Include:</p>
<table border="0" cellspacing="0" cellpadding="0" width="741">
<tbody>
<tr>
<td class="bodyText" width="249" height="30">
<div><a href="http://www.simplemathcellars.com/" target="_blank">Simple Math</a></div>
</td>
<td class="bodyText" width="245">
<div><a href="http://www.callunavineyards.com/" target="_blank">Calluna Vineyards</a></div>
</td>
<td class="bodyText" width="247">
<div><a href="http://www.adastrawines.com/" target="_blank">Adastra Vineyards</a></div>
</td>
</tr>
<tr>
<td class="bodyText" height="30">
<div><a href="http://www.gloriaferrer.com/" target="_blank">Gloria Ferrer</a></div>
</td>
<td class="bodyText">
<div><a href="https://www.facebook.com/pages/Fogline-Vineyards/141798219392" target="_blank">Fogline</a></div>
</td>
<td class="bodyText">
<div><a href="http://www.mahoneyvineyards.com/" target="_blank">Mahoney Vineyards</a></div>
</td>
</tr>
<tr>
<td class="bodyText" height="30">
<div><a href="http://www.canihanwines.com/" target="_blank">Canihan Family Wines</a></div>
</td>
<td class="bodyText">
<div><a href="http://www.slodownwines.com/" target="_blank">Slo Down Wines</a></div>
</td>
<td class="bodyText">
<div><a href="http://www.stompinggirlwines.com/" target="_blank">Stomping Girl</a></div>
</td>
</tr>
<tr>
<td class="bodyText" height="30">
<div><a href="https://www.facebook.com/pomowine" target="_blank">Pomo Nation Wine Group</a></div>
</td>
<td class="bodyText">
<div><a href="http://www.grandsamis.com/" target="_blank">Grand Amis Winery</a></div>
</td>
<td class="bodyText">
<div><a href="http://www.frogstooth.com/" target="_blank">Frog's Tooth</a></div>
</td>
</tr>
<tr>
<td class="bodyText" height="30">
<div><a href="http://www.fatgrapewinery.com/" target="_blank">Fat Grape</a></div>
</td>
<td class="bodyText">
<div><a href="http://www.tinbarnvineyards.com/">Tin Barn Vineyards</a></div>
</td>
<td class="bodyText">
<div><a href="http://www.cejavineyards.com/" target="_blank">Ceja Vineyards</a></div>
</td>
</tr>
<tr>
<td class="bodyText" height="30">
<div><a href="http://allthingschic.net/2011/08/le-grande-courtage-champagne.html">Le Grande Courtage Champagne</a></div>
</td>
<td class="bodyText">
<div><a href="http://www.chateaustjean.com/">Chateau St. Jean</a></div>
</td>
<td class="bodyText">
<div><a href="http://www.pomonationwine.com/">Le Grande Courtage Champagne</a></div>
</td>
</tr>
<tr>
<td class="bodyText" height="30">
<div><a href="http://www.viansa.com/">Viansa</a></div>
</td>
<td class="bodyText">
<div><a href="http://www.vin12.com/Harmony%20Wynelands">Harmony Wynelands</a></div>
</td>
<td class="bodyText">
<div><a href="http://www.jazzcellars.com/" target="_blank">Jazz Cellars</a></div>
</td>
</tr>
<tr>
<td class="bodyText" height="30">
<div><a href="http://www.roesslercellars.com/" target="_blank">Roessler Cellars</a></div>
</td>
<td class="bodyText">
<div>and more!</div>
</td>
<td class="bodyText"></td>
</tr>
</tbody>
</table>
<p class="style30" align="center">Once again, please join the 400+ attendees at VIN12! This event will sell-out!</p>
<p class="style30" align="center">Go to holidaywinesf.eventbrite.com for tickets</p>
<p class="style27" align="center">Music provided by Martin Collins</p>
<p class="style27" align="center">Photography by Byron Malik</p>
<p class="style27" align="center">Light food available for purchase</p>
<p class="sidebarHeader" align="center"><span class="style27"><br /></span></p>
LOCATION:Manor West 750 Harrison Street San Francisco, CA 94107
END:VEVENT
END:VCALENDAR