BEGIN:VCALENDAR
VERSION:2.0
BEGIN:VEVENT
URL:http://www.signaturewines.com/wine-community/events/viewevent/501-alvarado-historic-district-art-wine-fest 
DTSTART:20151011T100000
DTEND:20151011T170000
SUMMARY:Alvarado Historic District Art & Wine Fest
DESCRIPTION:<p id="yui_3_17_2_1_1441552360530_514" style="line-height: normal; margin: 0px; padding: 0px 0px 8px; color: #666666; font-family: 'Helvetica Neue', Helvetica, Arial, sans-serif; font-size: 13px; letter-spacing: 0.5px;">The Arts and Wine Fest celebrates the arts, crafts, food, and regional wines of the Tri-City area. </p>
<p style="line-height: normal; margin: 0px; padding: 0px 0px 8px; color: #666666; font-family: 'Helvetica Neue', Helvetica, Arial, sans-serif; font-size: 13px; letter-spacing: 0.5px;">The festival will open with "Welcome to Union City" highlighting the unique history of the Old Alvarado District.There will be a full day of entertainment and family activities including: display of vintage cars; live music; dance performers and demonstrations.  Groups participating include AES Ballet Folklorico, Pagmamalaki Pilipino Folk Dancing, NativSun and TruDance to name a few.  Additionally a main performance by popular Bay Area bands Herman & Latin Expressions, Native Elements & Mas Mojo will take place! Fine California wines will be poured by vintners.  Please visit <a href="http://www.alvaradomerchants.org/" rel="nofollow" style="color: #0f90ba;">www.AlvaradoMerchants.org</a> for sponsorship, vendor and volunteer opportunities!</p>
<p style="line-height: normal; margin: 0px; padding: 0px 0px 8px; color: #666666; font-family: 'Helvetica Neue', Helvetica, Arial, sans-serif; font-size: 13px; letter-spacing: 0.5px;"><span style="font-weight: bold;">Thank you to our current sponsors!</span></p>
<p style="line-height: normal; margin: 0px; padding: 0px 0px 8px; color: #666666; font-family: 'Helvetica Neue', Helvetica, Arial, sans-serif; font-size: 13px; letter-spacing: 0.5px;"><span style="font-weight: bold;">Intero Real Estate, Acura of Fremont, Century 25 Union Landing & XD, Martin Hoang Designs, Loyola Building, Republic Services, Assemblymember Bill Quirk District 20, Carol Dutra Vernaci-Enrolled Agent and Tax Preparation, Bay Area News Group, Legacy Real Estate & Associates, Carla Jones Family Chiropractic, Fremont Bank, System Pavers, Teresa Serrano Insurance-Farmers Insurance, CoreFitness by Jeanelle,  Adrienne Realiza-Legacy Real Estate & Associates!</span></p>
LOCATION:Old Alvarado/Cesar Chavez Parks  3871 Smith Street  Union City, CA 94587
END:VEVENT
END:VCALENDAR