BEGIN:VCALENDAR
VERSION:2.0
BEGIN:VEVENT
URL:http://www.signaturewines.com/wine-community/events/viewevent/503-chc-s-rocktoberfest-2015 
DTSTART:20151017T183000
DTEND:20151017T223000
SUMMARY:CHC's Rocktoberfest 2015
DESCRIPTION:<p><strong>BUY YOUR TICKETS HERE: </strong><span style="line-height: 1.3em;">https://chconline.ejoinme.org/pay-for-individual-tickets</span></p>
<p><span style="color: #111111; font-family: 'Open Sans', Arial, Helvetica, sans-serif; font-size: 24px; line-height: 33.599998474121094px; text-align: center;">Hey, friends- get ready for a rockin’ California twist on Oktoberfest benefitting Children’s Health Council. Join us at </span><a href="https://www.google.com/maps/place/880+Runnymede+Rd,+Woodside,+CA+94062/@37.4470905,-122.2777043,13z/data=!4m2!3m1!1s0x808fa14495a8c205:0x585ed40eb11c72f" style="margin: 0px; padding: 0px; border: 0px; font-family: 'Open Sans', Arial, Helvetica, sans-serif; line-height: 33.599998474121094px; font-size: 24px; vertical-align: baseline; color: #09a9cb; text-decoration: underline; text-align: center;">NCEFT’s</a><span style="color: #111111; font-family: 'Open Sans', Arial, Helvetica, sans-serif; font-size: 24px; line-height: 33.599998474121094px; text-align: center;"> outdoor covered arena in Woodside for great beer, wine, food and dancing to the amazing sounds of PopRocks.</span></p>
LOCATION:3674 Sand Hill Road Woodside, CA 94062
END:VEVENT
END:VCALENDAR