BEGIN:VCALENDAR
VERSION:2.0
BEGIN:VEVENT
URL:http://www.signaturewines.com/wine-community/events/viewevent/506-a-magical-evening-at-carolands 
DTSTART:20150925T190000
DTEND:20150925T220000
SUMMARY:A Magical Evening at Carolands
DESCRIPTION:<p><strong>PURCHASE YOUR TICKETS HERE: </strong><span style="line-height: 1.3em;">https://41224.thankyou4caring.org/carolands</span></p>
<p><strong style="line-height: 26.133333206176758px; color: #663399; font-family: Arial; font-size: 19px;"><span style="line-height: 1.4em; font-family: Candara, sans-serif;"><span style="line-height: 1.4em; font-size: 12pt;">Those in attendance at "A Magical Evening at Carolands" will celebrate four decades of progress in cystic fibrosis (CF) research, while enjoying gourmet small plates, delectable desserts, fabulous entertainment, and fine wine. </span><br style="line-height: 1.4em;" /><br style="line-height: 1.4em;" /><span style="line-height: 1.4em; font-size: 12pt;">The evening will culminate with an exciting live auction. This soirée will raise vital funds for CFRI’s research and education programs. Please join us at this extraordinary event, and help us to find a cure for those coping with CF, the most common fatal genetic disease in the U.S. </span> </span></strong></p>
LOCATION:565 Remillard Dr, Hillsborough, CA 94010
END:VEVENT
END:VCALENDAR