BEGIN:VCALENDAR
VERSION:2.0
BEGIN:VEVENT
URL:http://www.signaturewines.com/wine-community/events/viewevent/507-four-course-wine-lover-s-dinner-featuring-chalk-hill-winery 
DTSTART:20150924T183000
DTEND:20150924T203000
SUMMARY:Four Course Wine Lover's Dinner Featuring... Chalk Hill Winery!
DESCRIPTION:<p><span style="color: #555555; font-family: 'Open Sans', sans-serif; font-size: 16px; line-height: 22px; text-align: center;">Visit Event Website: </span><a href="http://www.osteriacoppa.com/news-events/calendar.html" target="_blank" style="box-sizing: border-box; font-family: 'Open Sans', sans-serif; background-color: transparent; color: #a10f2b; font-size: 16px; line-height: 22px; text-align: center; border-top-left-radius: 0px !important; border-top-right-radius: 0px !important; border-bottom-right-radius: 0px !important; border-bottom-left-radius: 0px !important; outline: 0px !important;">www.osteriacoppa.com/news-events/calendar.html</a></p>
<div class="margin-bottom-40" style="box-sizing: border-box; font-family: 'Open Sans', sans-serif; clear: both; margin-bottom: 40px; font-size: 14px; line-height: 20px; border-top-left-radius: 0px !important; border-top-right-radius: 0px !important; border-bottom-right-radius: 0px !important; border-bottom-left-radius: 0px !important;">
<p style="box-sizing: border-box; margin: 0px 0px 10px; color: #555555; text-align: center; border-top-left-radius: 0px !important; border-top-right-radius: 0px !important; border-bottom-right-radius: 0px !important; border-bottom-left-radius: 0px !important;"><span style="box-sizing: border-box; border-top-left-radius: 0px !important; border-top-right-radius: 0px !important; border-bottom-right-radius: 0px !important; border-bottom-left-radius: 0px !important; font-family: arial, helvetica, sans-serif; font-size: medium;">Nestled within the Russian River Valley, Chalk Hill has earned impressive <span style="box-sizing: border-box; border-top-left-radius: 0px !important; border-top-right-radius: 0px !important; border-bottom-right-radius: 0px !important; border-bottom-left-radius: 0px !important; font-family: 'Open Sans', sans-serif; font-weight: bold;">90 plus point scores from Wine Spectator</span>, Wine Enthusiast, Stephen Tanzer’s International Wine Cellar and Connoisseurs’ Guide.</span></p>
<p style="box-sizing: border-box; margin: 0px 0px 10px; color: #555555; text-align: center; border-top-left-radius: 0px !important; border-top-right-radius: 0px !important; border-bottom-right-radius: 0px !important; border-bottom-left-radius: 0px !important;"><span style="box-sizing: border-box; border-top-left-radius: 0px !important; border-top-right-radius: 0px !important; border-bottom-right-radius: 0px !important; border-bottom-left-radius: 0px !important; font-family: arial, helvetica, sans-serif; font-size: medium;"><span style="box-sizing: border-box; border-top-left-radius: 0px !important; border-top-right-radius: 0px !important; border-bottom-right-radius: 0px !important; border-bottom-left-radius: 0px !important; font-family: 'Open Sans', sans-serif; font-weight: bold;">MENU</span></span></p>
<p style="box-sizing: border-box; margin: 0px 0px 10px; color: #555555; text-align: center; border-top-left-radius: 0px !important; border-top-right-radius: 0px !important; border-bottom-right-radius: 0px !important; border-bottom-left-radius: 0px !important;"><span style="box-sizing: border-box; border-top-left-radius: 0px !important; border-top-right-radius: 0px !important; border-bottom-right-radius: 0px !important; border-bottom-left-radius: 0px !important; font-family: arial, helvetica, sans-serif; font-size: medium;"><span style="box-sizing: border-box; border-top-left-radius: 0px !important; border-top-right-radius: 0px !important; border-bottom-right-radius: 0px !important; border-bottom-left-radius: 0px !important; font-family: 'Open Sans', sans-serif; font-weight: bold;">Local Halibut Croquette, Preserved Lemon Emulsion</span> Chalk Hill Estate Sauvignon Blanc 2013</span></p>
<p style="box-sizing: border-box; margin: 0px 0px 10px; color: #555555; text-align: center; border-top-left-radius: 0px !important; border-top-right-radius: 0px !important; border-bottom-right-radius: 0px !important; border-bottom-left-radius: 0px !important;"><span style="box-sizing: border-box; border-top-left-radius: 0px !important; border-top-right-radius: 0px !important; border-bottom-right-radius: 0px !important; border-bottom-left-radius: 0px !important; font-family: arial, helvetica, sans-serif; font-size: medium;"><span style="box-sizing: border-box; border-top-left-radius: 0px !important; border-top-right-radius: 0px !important; border-bottom-right-radius: 0px !important; border-bottom-left-radius: 0px !important; font-family: 'Open Sans', sans-serif; font-weight: bold;">Grilled Cuttlefish, Squid Ink Aioli, Fregola Sarda </span>Chalk Hill Chardonnay, Sonoma Coast 2013</span></p>
<p style="box-sizing: border-box; margin: 0px 0px 10px; color: #555555; text-align: center; border-top-left-radius: 0px !important; border-top-right-radius: 0px !important; border-bottom-right-radius: 0px !important; border-bottom-left-radius: 0px !important;"><span style="box-sizing: border-box; border-top-left-radius: 0px !important; border-top-right-radius: 0px !important; border-bottom-right-radius: 0px !important; border-bottom-left-radius: 0px !important; font-family: arial, helvetica, sans-serif; font-size: medium;"><span style="box-sizing: border-box; border-top-left-radius: 0px !important; border-top-right-radius: 0px !important; border-bottom-right-radius: 0px !important; border-bottom-left-radius: 0px !important; font-family: 'Open Sans', sans-serif; font-weight: bold;">Herb Roasted Lamb Chop, Summer Bean Salad, Gremolata</span> Chalk Hill Estate Pinot Noir 2012</span></p>
<p style="box-sizing: border-box; margin: 0px 0px 10px; color: #555555; text-align: center; border-top-left-radius: 0px !important; border-top-right-radius: 0px !important; border-bottom-right-radius: 0px !important; border-bottom-left-radius: 0px !important;"><span style="box-sizing: border-box; border-top-left-radius: 0px !important; border-top-right-radius: 0px !important; border-bottom-right-radius: 0px !important; border-bottom-left-radius: 0px !important; font-family: arial, helvetica, sans-serif; font-size: medium;"><span style="box-sizing: border-box; border-top-left-radius: 0px !important; border-top-right-radius: 0px !important; border-bottom-right-radius: 0px !important; border-bottom-left-radius: 0px !important; font-family: 'Open Sans', sans-serif; font-weight: bold;">Fresh Huckleberry Cannoli </span>Apricot Aperol Spritz </span></p>
<p style="box-sizing: border-box; margin: 0px 0px 10px; color: #555555; text-align: center; border-top-left-radius: 0px !important; border-top-right-radius: 0px !important; border-bottom-right-radius: 0px !important; border-bottom-left-radius: 0px !important;"><span style="box-sizing: border-box; border-top-left-radius: 0px !important; border-top-right-radius: 0px !important; border-bottom-right-radius: 0px !important; border-bottom-left-radius: 0px !important; font-family: arial, helvetica, sans-serif; font-size: medium;">$90 per person, plus tax and gratuity.</span></p>
<p style="box-sizing: border-box; margin: 0px 0px 10px; color: #555555; text-align: center; border-top-left-radius: 0px !important; border-top-right-radius: 0px !important; border-bottom-right-radius: 0px !important; border-bottom-left-radius: 0px !important;"><span style="box-sizing: border-box; border-top-left-radius: 0px !important; border-top-right-radius: 0px !important; border-bottom-right-radius: 0px !important; border-bottom-left-radius: 0px !important; font-family: arial, helvetica, sans-serif; font-size: medium;">Reservations required as space is limited. Call Rebeca at (650) 712-0245 x4, or email rebeca@samschowderhouse.com.</span></p>
</div>
<div class="well text-center margin-bottom-40" style="box-sizing: border-box; font-family: 'Open Sans', sans-serif; text-align: center; min-height: 20px; padding: 19px; margin-bottom: 40px; background-color: #f5f5f5; border: 1px solid #e3e3e3; -webkit-box-shadow: rgba(0, 0, 0, 0.0470588) 0px 1px 1px inset; box-shadow: rgba(0, 0, 0, 0.0470588) 0px 1px 1px inset; clear: both; font-size: 14px; line-height: 20px; border-top-left-radius: 0px !important; border-top-right-radius: 0px !important; border-bottom-right-radius: 0px !important; border-bottom-left-radius: 0px !important;"> </div>
LOCATION:Osteria Coppa 139 South B Street San Mateo, CA 94401
END:VEVENT
END:VCALENDAR