BEGIN:VCALENDAR
VERSION:2.0
BEGIN:VEVENT
URL:http://www.signaturewines.com/wine-community/events/viewevent/508-iron-horse-vineyards-proudly-presents-harvest-party-celebrate-vintage-2015 
DTSTART:20150920T120000
DTEND:20150920T150000
SUMMARY:Iron Horse Vineyards Proudly Presents: Harvest Party - Celebrate Vintage 2015
DESCRIPTION:<p><strong>BUY YOUR TICKETS HERE: </strong><span style="line-height: 1.3em;">https://www.cellarpass.com/iron-horse-vineyards-harvest-party-tickets-971?p=110050</span></p>
<p><span style="font-family: 'Open Sans', sans-serif, Arial, 'Helvetica Neue', Helvetica; line-height: 17px;">The theme this year is Peace, Love and Pinot Noir. You'll be greeted with our signature Harvest Cocktail – 2010 Brut X and a splash of 2015 Pinot Noir free run juice. There will be a “Pop up” California Caviar station by The Caviar Cowboys for the first hour of the party, then join us for a great Sonoma Feast Prepared by Chef Brandon Guenther - Char-grilled Free Range Chicken with Castelvetrano Olive and Lemon Relish, Herbed Orzo Pasta Salad with Grilled Iron Horse Vegetables from Barry Sterling's Garden.  We'll have live music by The T Sisters – a sister folk band from Oakland. Enjoy a vertical tasting of Native Yeast Chardonnay and the debut of our 2013 Single Vineyard Pinot Noirs – North Block, Winery Block, Deer Gate, Home Block, Thomas Road and Q. Finish with Apple pies by Patisserie Angelica served with 2010 Russian Cuvee.</span><br style="box-sizing: border-box; font-family: 'Open Sans', sans-serif, Arial, 'Helvetica Neue', Helvetica; line-height: 17px;" /><span style="font-family: 'Open Sans', sans-serif, Arial, 'Helvetica Neue', Helvetica; line-height: 17px;">Limited to 200 people. $60.00 Club Members, $75.00 general public</span></p>
LOCATION:9786 Ross Station Road Sebastopol, CA 95472
END:VEVENT
END:VCALENDAR