BEGIN:VCALENDAR
VERSION:2.0
BEGIN:VEVENT
URL:http://www.signaturewines.com/wine-community/events/viewevent/509-saturday-october-24-2015-7-00-pm-10-00-pm 
DTSTART:20151024T190000
DTEND:20151024T220000
SUMMARY:Saturday, October 24, 2015 7:00 PM - 10:00 PM
DESCRIPTION:<p><strong>BUY YOUR TICKETS HERE: </strong><span style="line-height: 1.3em;">http://www.cellarpass.com/harvest-masquerade-ball-tickets-968</span></p>
<p><span style="font-family: 'Open Sans', sans-serif, Arial, 'Helvetica Neue', Helvetica; line-height: 17px;">In 1864 the Count of Buena Vista, Agoston Haraszthy, hosted California’s first formal vintage celebration with a masked ball – today we honor that tradition and invite you to join us as we celebrate the 151st anniversary of this extraordinary event.  </span><br style="box-sizing: border-box; font-family: 'Open Sans', sans-serif, Arial, 'Helvetica Neue', Helvetica; line-height: 17px;" /><br style="box-sizing: border-box; font-family: 'Open Sans', sans-serif, Arial, 'Helvetica Neue', Helvetica; line-height: 17px;" /><span style="font-family: 'Open Sans', sans-serif, Arial, 'Helvetica Neue', Helvetica; line-height: 17px;">Spend the evening in true 1860s aristocratic style as we dance the night away on the third floor of the Historic Champagne Cellar!  Enjoy a modern twist on a historic ball with great music, light hors d'oeuvres and delicious Buena Vista wines.  You will have the opportunity to witness the unforgettable performers throughout the night as well!  Guests are encouraged to dress for the occasion with their favorite masquerade style mask and evening attire.</span></p>
LOCATION:18000 Old Winery Road Sonoma, CA 95476
END:VEVENT
END:VCALENDAR