BEGIN:VCALENDAR
VERSION:2.0
BEGIN:VEVENT
URL:http://www.signaturewines.com/wine-community/events/viewevent/512-the-fall-wine-event-2015 
DTSTART:20151003T170000
DTEND:20151003T200000
SUMMARY:The Fall Wine Event 2015
DESCRIPTION:<p><strong>BUY YOUR TICKETS HERE: </strong><span style="line-height: 1.3em;">http://www.eventbrite.com/e/the-fall-wine-event-2015-tickets-18506664933?aff=es2</span></p>
<p style="line-height: normal; margin: 0px; padding: 0px 0px 8px; color: #666666; font-family: 'Helvetica Neue', Helvetica, Arial, sans-serif; font-size: 13px; letter-spacing: 0.5px;">Spend your early evening with us discovering and sipping new California and International wines and Champagne. <span style="font-weight: bold;">The 2015 Fall Wine Event</span> follows our sold-out premieres of the East Bay’s newest urban wine-tasting experience in 2014 which took place at Impact Hub Oakland featuring many Award-Winning African American vintners and celebrated wines from some of the regions top vintners. You'll also enjoy nibbling on <span style="font-weight: bold;">small bites</span>, <span style="font-weight: bold;">great music</span> with DJ Jerry Ross and <span style="font-weight: bold;">viewing art</span> in the Omi Gallery, all amongst your friends and fellow wine lovers back in the East Bay’s unique event space for inspired dialogue and community – Impact Hub Oakland!</p>
<p style="line-height: normal; margin: 0px; padding: 0px 0px 8px; color: #666666; font-family: 'Helvetica Neue', Helvetica, Arial, sans-serif; font-size: 13px; letter-spacing: 0.5px;"><span style="font-weight: bold;"><span style="color: #000000;">Past and Current Participating Wineries include:</span></span> Astil, Albret, Azari Vineyards, Barber Cellars, Capture Wines, Colagrossi Wines, Comenge, Creacion Wines, Cuddihy Wines, Dashe Cellars, David Fulton Wines, Domenico Wines, Don Miguel, Esterlina Vineyards, Everett Ridge, Fat Grape Wines, Fulton Mather Wines, Handley Cellars, Hemar, Indigene, L’Objet Wines, Linaje Garsea, Marques de Larra, MDV, Medievo, Monte del Conde, Paradox Wines, Senirio de Caleruega, Sosabe Cellars, Sottomarino, Spicy Vines, Stage Left Cellars, Stein Family Wines, Theopolis Vineyards, Tuercebotas, Virgo Cellars, Winery SF and more!</p>
<p style="line-height: normal; margin: 0px; padding: 0px 0px 8px; color: #666666; font-family: 'Helvetica Neue', Helvetica, Arial, sans-serif; font-size: 13px; letter-spacing: 0.5px;"><span style="color: #000000;"><span style="font-weight: bold;">Past and Current Participating Vendors include:</span></span> Bridge Brands, Feve Chocolates, PieTisserie, Gourmet Temptations, Nan’s Gourmet Foods, Sierra Olive Oil and more!</p>
LOCATION:Impact Hub Oakland  2323 Broadway  Oakland, CA 94612
END:VEVENT
END:VCALENDAR