BEGIN:VCALENDAR
VERSION:2.0
BEGIN:VEVENT
URL:http://www.signaturewines.com/wine-community/events/viewevent/515-28th-annual-chocolate-and-wine-tasting 
DTSTART:20151025T150000
DTEND:20151025T180000
SUMMARY:28th Annual Chocolate and Wine Tasting
DESCRIPTION:<h2 style="margin: 0px; color: #404040; font-size: 20px; line-height: 1.2em; font-family: 'Helvetica Neue', Helvetica, Arial, sans-serif; padding: 0px 0px 8px; letter-spacing: 0.5px; text-align: left;">BUY YOUR TICKETS HERE: http://www.eventbrite.com/e/28th-annual-chocolate-and-wine-tasting-tickets-17854799185?aff=es2</h2>
<h2 style="margin: 0px; color: #404040; font-size: 20px; line-height: 1.2em; font-family: 'Helvetica Neue', Helvetica, Arial, sans-serif; padding: 0px 0px 8px; letter-spacing: 0.5px; text-align: center;">28th Annual Chocolate & Wine Event</h2>
<p style="line-height: normal; margin: 0px; padding: 0px 0px 8px; color: #666666; font-family: 'Helvetica Neue', Helvetica, Arial, sans-serif; font-size: 13px; letter-spacing: 0.5px; text-align: center;">Supporting Napa County Foster, Kincare & Adoptive Kids</p>
<p style="line-height: normal; margin: 0px; padding: 0px 0px 8px; color: #666666; font-family: 'Helvetica Neue', Helvetica, Arial, sans-serif; font-size: 13px; letter-spacing: 0.5px; text-align: center;">Featuring some of the regions finest wines and chocolates.<br /><br />Catered by: <span style="font-weight: bold;">Ken Frank</span>, Chef, La Toque<br />Serving charcuteries & savories<br /><br /><span style="font-weight: bold;">Live Music, Silent Auction</span></p>
LOCATION:The Westin Verasa Napa  1314 McKinstry Street  Napa, CA 94559
END:VEVENT
END:VCALENDAR